Workbook

Sheet INSTRUÇÕES
A2: INSTITUTO DE GESTÃO ESTRATÉGICA DE SAÚDE
A3: IGES-DF
A6: OBRA: REFORMA - GAMA CÂMARA MEDICINA NUCLEAR HBDF - NÃO DESONERADO - R00
A8: INSTRUÇÕES PARA O PREENCHIMENTO DA PLANILHA
A11: 1 | B11: A PLANILHA NÃO DEVE SER DESBLOQUEADA.
A13: 2 | B13: OS CABEÇALHOS ENCONTRAM-SE DESBLOQUEADOS PARA PERMITIR A TROCA DO LOGOTIPO PELO LOGOTIPO DA EMPRESA LICITANTE.
A15: 3 | B15: PARA O LICITANTE COMPOR A SUA PROPOSTA BASTA APLICAR O PERCENTUAL DE DESCONTO NO FINAL DA PLANILHA SINTÉTICA (CÉLULA VERDE). DESSA FORMA TODAS AS ABAS DA PLANILHA SÃO ATUALIZADAS AUTOMATICAMENTE.
A17: 4 | B17: (ALTERAÇÃO OPCIONAL - ABA "ANALÍTICA") NA PLANILHA ANALÍTICA O LICITANTE PODE ALTERAR OS COEFICIENTES DE TODOS OS INSUMOS QUE FAZEM PARTE DAS COMPOSIÇÕES. (COLUNA "H")
A19: 5 | B19: (ALTERAÇÃO OPCIONAL - ABA "ANALÍTICA AUXILIARES") NA PLANILHA ANALÍTICA AUXILIAR O LICITANTE PODE ALTERAR OS COEFICIENTES DE TODOS OS INSUMOS QUE FAZEM PARTE DAS COMPOSIÇÕES. (COLUNA "H")
A21: 6 | B21: (ALTERAÇÃO OPCIONAL - ABA "INSUMOS") OS VALORES UNITÁRIOS DOS INSUMOS PODEM SER ALTERADOS DE FORMA INDIVIDUAL NA ABA "INSUMOS". OS VALORES UNITÁRIOS DOS INSUMOS PODEM SER INSERIDOS SOBRE AS FÓRMULAS PRESENTES NAS CÉLULAS VERDES. (COLUNA "H")
A23: 7 | B23: (ALTERAÇÃO OPCIONAL - ABA "BDI") OS PERCENTUAIS DO BDI PODEM SER ALTERADOS NAS CÉLULAS VERDES. (COLUNA "D")
A25: 8 | B25: (ALTERAÇÃO OPCIONAL - ABA "CRONOGRAMA") OS PERCENTUAIS DO CRONOGRAMA PODEM SER ALTERADOS NAS CÉLULAS VERDES.
A27: 9 | B27: (ALTERAÇÃO OPCIONAL - ABA "LEIS SOCIAIS") CONFORME O REGIME DE TRIBUTAÇÃO DA EMPRESA OS PERCENTUAIS DAS LEIS SOCIAIS PODEM SER ALTERADOS NAS CÉLULAS VERDES. (ESSA ALTERAÇÃO NÃO MUDA O VALOR DA PROPOSTA)

Sheet SINTÉTICA
A2: =INSTRUÇÕES!A2 -> INSTITUTO DE GESTÃO ESTRATÉGICA DE SAÚDE
A3: =INSTRUÇÕES!A3 -> IGES-DF
A5: =INSTRUÇÕES!A6 -> OBRA: REFORMA - GAMA CÂMARA MEDICINA NUCLEAR HBDF - NÃO DESONERADO - R00
A6: PLANILHA SINTÉTICA (COM BDI)
M7: 13 | N7: 14 | O7: 15 | P7: 16 | Q7: 17 | R7: 18 | S7: 19 | T7: 20 | U7: 21 | V7: 22
E8: LEIS SOCIAIS NÃO DESONERADAS - REFERÊNCIA HORISTA SINAPI: LS | J8: 1.1014
E9: BENEFÍCIOS E DESPESAS INDIRETAS: BDI | J9: =BDI!D23 -> 0.2094 | M9: ITEM | N9: CÓDIGO | O9: BANCO | P9: DESCRIÇÃO | Q9: UND | R9: QUANT. | S9: VALOR UNIT SEM BDI | T9: VALOR UNIT COM BDI | U9: TOTAL COM BDI | V9: PESO (%)
D10: =E9&"-EQUIPAMENTOS" -> BENEFÍCIOS E DESPESAS INDIRETAS: BDI-EQUIPAMENTOS | J10: =BDI!D36 -> 0.1089 | M10: 01.01.1 | N10: 74209/001 | O10: =UPPER(VLOOKUP(N10,ANALÍTICA!$B:$J,2,0)) -> #N/A | P10: =UPPER(VLOOKUP(N10,ANALÍTICA!$B:$J,3,0)) -> #N/A | Q10: =UPPER(VLOOKUP(N10,ANALÍTICA!$B:$J,6,0)) -> #N/A | R10: 1.6 | S10: =VLOOKUP(N10,ANALÍTICA!$B:$J,8,0) -> #N/A | T10: =TRUNC(S10*(1+$J$9),2) -> #N/A | U10: =TRUNC(T10*R10,2) -> #N/A | V10: =U10/$I$228 -> #N/A
E11: REFERÊNCIA: SINAPI - DF - 01/22 (NÃO DESONERADA)
A12: ITEM | B12: CÓDIGO | C12: BANCO | D12: DESCRIÇÃO | E12: UND | F12: QUANT. | G12: VALOR UNIT SEM BDI | H12: VALOR UNIT COM BDI | I12: TOTAL COM BDI | J12: PESO (%)
A14: 1 | D14: GRUPO 1 - ADM OBRA | I14: =SUBTOTAL(109,I15:I35) -> 198940.46 | J14: 0.093827666 | K14: =IF(ISBLANK($A14),"",HYPERLINK("#ANALÍTICA!A"&MATCH($A14,ANALÍTICA!A:A,0),"Link")) -> Link
A15: 1.1 | D15: SERVIÇOS TÉCNICO-PROFISSIONAIS | I15: =SUBTOTAL(109,I16:I18) -> 952.56 | J15: 0.00044926247 | K15: =IF(ISBLANK($A15),"",HYPERLINK("#ANALÍTICA!A"&MATCH($A15,ANALÍTICA!A:A,0),"Link")) -> Link
A16: 1.1.1 | D16: DESPESAS LEGAIS | I16: =SUBTOTAL(109,I17:I18) -> 952.56 | J16: 0.00044926247 | K16: =IF(ISBLANK($A16),"",HYPERLINK("#ANALÍTICA!A"&MATCH($A16,ANALÍTICA!A:A,0),"Link")) -> Link
A17: 1.1.1.1 | D17: TAXAS | I17: =SUBTOTAL(109,I18) -> 952.56 | J17: 0.00044926247 | K17: =IF(ISBLANK($A17),"",HYPERLINK("#ANALÍTICA!A"&MATCH($A17,ANALÍTICA!A:A,0),"Link")) -> Link
A18: 1.1.1.1.1 | B18: IG-ART01 | C18: =UPPER(VLOOKUP(B18,ANALÍTICA!$B:$J,2,0)) -> PRÓPRIO | D18: =UPPER(VLOOKUP(B18,ANALÍTICA!$B:$J,3,0)) -> ART CREA DF 2025. REF UPACOMP347 | E18: =UPPER(VLOOKUP(B18,ANALÍTICA!$B:$J,6,0)) -> UN | F18: 3 | G18: =VLOOKUP(B18,ANALÍTICA!$B:$J,8,0) -> 262.55 | H18: =TRUNC(G18*(1+$J$9),2) -> 317.52 | I18: =TRUNC(H18*F18,2) -> 952.56 | J18: =I18/$I$228 -> 0.00044926247 | K18: =IF(ISBLANK($A18),"",HYPERLINK("#ANALÍTICA!A"&MATCH($A18,ANALÍTICA!A:A,0),"Link")) -> Link
A19: 1.2 | D19: SERVIÇOS COMPLEMENTARES | I19: =SUBTOTAL(109,I20:I26) -> 9614.35 | J19: 0.0045344824 | K19: =IF(ISBLANK($A19),"",HYPERLINK("#ANALÍTICA!A"&MATCH($A19,ANALÍTICA!A:A,0),"Link")) -> Link
A20: 1.2.1 | D20: LIMPEZA DE OBRAS | I20: =SUBTOTAL(109,I21:I24) -> 9204.85 | J20: 0.0043413471 | K20: =IF(ISBLANK($A20),"",HYPERLINK("#ANALÍTICA!A"&MATCH($A20,ANALÍTICA!A:A,0),"Link")) -> Link
A21: 1.2.1.1 | D21: CONSERVAÇÃO E LIMPEZA | I21: =SUBTOTAL(109,I22:I24) -> 9204.85 | J21: 0.0043413471 | K21: =IF(ISBLANK($A21),"",HYPERLINK("#ANALÍTICA!A"&MATCH($A21,ANALÍTICA!A:A,0),"Link")) -> Link
A22: 1.2.1.1.1 | B22: IG-LFO01 | C22: =UPPER(VLOOKUP(B22,ANALÍTICA!$B:$J,2,0)) -> PRÓPRIO | D22: =UPPER(VLOOKUP(B22,ANALÍTICA!$B:$J,3,0)) -> LIMPEZA FINAL DA OBRA. REF UPACOMP478 | E22: =UPPER(VLOOKUP(B22,ANALÍTICA!$B:$J,6,0)) -> M² | F22: 357 | G22: =VLOOKUP(B22,ANALÍTICA!$B:$J,8,0) -> 4.2 | H22: =TRUNC(G22*(1+$J$9),2) -> 5.07 | I22: =TRUNC(H22*F22,2) -> 1809.99 | J22: =I22/$I$228 -> 0.00085365811 | K22: =IF(ISBLANK($A22),"",HYPERLINK("#ANALÍTICA!A"&MATCH($A22,ANALÍTICA!A:A,0),"Link")) -> Link
A23: 1.2.1.1.2 | B23: IG-LPO01 | C23: =UPPER(VLOOKUP(B23,ANALÍTICA!$B:$J,2,0)) -> PRÓPRIO | D23: =UPPER(VLOOKUP(B23,ANALÍTICA!$B:$J,3,0)) -> LIMPEZA PERMANENTE DA OBRA. REF UPACOMP479 | E23: =UPPER(VLOOKUP(B23,ANALÍTICA!$B:$J,6,0)) -> MÊS | F23: 6 | G23: =VLOOKUP(B23,ANALÍTICA!$B:$J,8,0) -> 552.42 | H23: =TRUNC(G23*(1+$J$9),2) -> 668.09 | I23: =TRUNC(H23*F23,2) -> 4008.54 | J23: =I23/$I$228 -> 0.0018905755 | K23: =IF(ISBLANK($A23),"",HYPERLINK("#ANALÍTICA!A"&MATCH($A23,ANALÍTICA!A:A,0),"Link")) -> Link
A24: 1.2.1.1.3 | B24: IG-CE01 | C24: =UPPER(VLOOKUP(B24,ANALÍTICA!$B:$J,2,0)) -> PRÓPRIO | D24: =UPPER(VLOOKUP(B24,ANALÍTICA!$B:$J,3,0)) -> CONTAINER PARA ENTULHO INCLUINDO TAXA DE DEPOSIÇÃO FINAL. REF UPACOMP574 | E24: =UPPER(VLOOKUP(B24,ANALÍTICA!$B:$J,6,0)) -> UN | F24: 8 | G24: =VLOOKUP(B24,ANALÍTICA!$B:$J,8,0) -> 350 | H24: =TRUNC(G24*(1+$J$9),2) -> 423.29 | I24: =TRUNC(H24*F24,2) -> 3386.32 | J24: =I24/$I$228 -> 0.0015971135 | K24: =IF(ISBLANK($A24),"",HYPERLINK("#ANALÍTICA!A"&MATCH($A24,ANALÍTICA!A:A,0),"Link")) -> Link
A25: 1.2.2 | D25: COMO CONSTRUIDO (AS BUILT) | I25: =SUBTOTAL(109,I26) -> 409.5 | J25: 0.00019313532 | K25: =IF(ISBLANK($A25),"",HYPERLINK("#ANALÍTICA!A"&MATCH($A25,ANALÍTICA!A:A,0),"Link")) -> Link
A26: 1.2.2.1 | B26: IG-ABP01 | C26: =UPPER(VLOOKUP(B26,ANALÍTICA!$B:$J,2,0)) -> PRÓPRIO | D26: =UPPER(VLOOKUP(B26,ANALÍTICA!$B:$J,3,0)) -> AS BUILT, DE TODOS OS PROJETOS, (ARQUITETURA E INSTALAÇÕES). REF UPACOMP480 | E26: =UPPER(VLOOKUP(B26,ANALÍTICA!$B:$J,6,0)) -> M² | F26: 568.75 | G26: =VLOOKUP(B26,ANALÍTICA!$B:$J,8,0) -> 0.6 | H26: =TRUNC(G26*(1+$J$9),2) -> 0.72 | I26: =TRUNC(H26*F26,2) -> 409.5 | J26: =I26/$I$228 -> 0.00019313532 | K26: =IF(ISBLANK($A26),"",HYPERLINK("#ANALÍTICA!A"&MATCH($A26,ANALÍTICA!A:A,0),"Link")) -> Link
A27: 1.3 | D27: SERVIÇOS AUXILIARES E ADMINISTRATIVOS | I27: =SUBTOTAL(109,I28:I35) -> 188373.55 | J27: 0.088843921 | K27: =IF(ISBLANK($A27),"",HYPERLINK("#ANALÍTICA!A"&MATCH($A27,ANALÍTICA!A:A,0),"Link")) -> Link
A28: 1.3.1 | D28: PESSOAL | I28: =SUBTOTAL(109,I29:I30) -> 183237.4 | J28: 0.086421523 | K28: =IF(ISBLANK($A28),"",HYPERLINK("#ANALÍTICA!A"&MATCH($A28,ANALÍTICA!A:A,0),"Link")) -> Link
A29: 1.3.1.1 | D29: ADMINISTRAÇÃO LOCAL | I29: =SUBTOTAL(109,I30) -> 183237.4 | J29: 0.086421523 | K29: =IF(ISBLANK($A29),"",HYPERLINK("#ANALÍTICA!A"&MATCH($A29,ANALÍTICA!A:A,0),"Link")) -> Link
A30: 1.3.1.1.1 | B30: IG-ADM-CG | C30: =UPPER(VLOOKUP(B30,ANALÍTICA!$B:$J,2,0)) -> PRÓPRIO | D30: =UPPER(VLOOKUP(B30,ANALÍTICA!$B:$J,3,0)) -> ADMINISTRAÇÃO LOCAL DA OBRA. | E30: =UPPER(VLOOKUP(B30,ANALÍTICA!$B:$J,6,0)) -> MÊS | F30: 5 | G30: =VLOOKUP(B30,ANALÍTICA!$B:$J,8,0) -> 30302.2 | H30: =TRUNC(G30*(1+$J$9),2) -> 36647.48 | I30: =TRUNC(H30*F30,2) -> 183237.4 | J30: =I30/$I$228 -> 0.086421523 | K30: =IF(ISBLANK($A30),"",HYPERLINK("#ANALÍTICA!A"&MATCH($A30,ANALÍTICA!A:A,0),"Link")) -> Link
A31: 1.3.2 | D31: MÁQUINAS E EQUIPAMENTOS | I31: =SUBTOTAL(109,I32:I35) -> 5136.15 | J31: 0.002422398 | K31: =IF(ISBLANK($A31),"",HYPERLINK("#ANALÍTICA!A"&MATCH($A31,ANALÍTICA!A:A,0),"Link")) -> Link
A32: 1.3.2.1 | D32: DE CONSTRUÇÃO | I32: =SUBTOTAL(109,I33:I35) -> 5136.15 | J32: 0.002422398 | K32: =IF(ISBLANK($A32),"",HYPERLINK("#ANALÍTICA!A"&MATCH($A32,ANALÍTICA!A:A,0),"Link")) -> Link
A33: 1.3.2.1.1 | B33: IG-LAM | C33: =UPPER(VLOOKUP(B33,ANALÍTICA!$B:$J,2,0)) -> PRÓPRIO | D33: =UPPER(VLOOKUP(B33,ANALÍTICA!$B:$J,3,0)) -> LOCACAO DE ANDAIME METALICO TIPO FACHADEIRO, PECAS COM APROXIMADAMENTE 1,20 M DE LARGURA E 2,0 M DE ALTURA, INCLUINDO DIAGONAIS EM X, BARRAS DE LIGACAO, SAPATAS E DEMAIS ITENS NECESSARIOS A MONTAGEM (NAO INCLUI INSTALACAO). REF UPACOMP573 | E33: =UPPER(VLOOKUP(B33,ANALÍTICA!$B:$J,6,0)) -> M² | F33: 90 | G33: =VLOOKUP(B33,ANALÍTICA!$B:$J,8,0) -> 22.5 | H33: =TRUNC(G33*(1+$J$9),2) -> 27.21 | I33: =TRUNC(H33*F33,2) -> 2448.9 | J33: =I33/$I$228 -> 0.0011549917 | K33: =IF(ISBLANK($A33),"",HYPERLINK("#ANALÍTICA!A"&MATCH($A33,ANALÍTICA!A:A,0),"Link")) -> Link
A34: 1.3.2.1.2 | B34: 97063 | C34: =UPPER(VLOOKUP(B34,ANALÍTICA!$B:$J,2,0)) -> SINAPI | D34: =UPPER(VLOOKUP(B34,ANALÍTICA!$B:$J,3,0)) -> MONTAGEM E DESMONTAGEM DE ANDAIME MODULAR FACHADEIRO, COM PISO METÁLICO, PARA EDIFÍCIOS COM MULTIPLOS PAVIMENTOS (EXCLUSIVE ANDAIME E LIMPEZA). AF_03/2024 | E34: =UPPER(VLOOKUP(B34,ANALÍTICA!$B:$J,6,0)) -> M² | F34: 90 | G34: =VLOOKUP(B34,ANALÍTICA!$B:$J,8,0) -> 20.13 | H34: =TRUNC(G34*(1+$J$9),2) -> 24.34 | I34: =TRUNC(H34*F34,2) -> 2190.6 | J34: =I34/$I$228 -> 0.0010331678 | K34: =IF(ISBLANK($A34),"",HYPERLINK("#ANALÍTICA!A"&MATCH($A34,ANALÍTICA!A:A,0),"Link")) -> Link
A35: 1.3.2.1.3 | B35: IG-ECM01 | C35: =UPPER(VLOOKUP(B35,ANALÍTICA!$B:$J,2,0)) -> PRÓPRIO | D35: =UPPER(VLOOKUP(B35,ANALÍTICA!$B:$J,3,0)) -> UTILIZAÇÃO DE EQUIPE DE APOIO COM CAMINHÃO MUNK. REF CAE 508015 | E35: =UPPER(VLOOKUP(B35,ANALÍTICA!$B:$J,6,0)) -> H | F35: 15 | G35: =VLOOKUP(B35,ANALÍTICA!$B:$J,8,0) -> 27.38 | H35: =TRUNC(G35*(1+$J$9),2) -> 33.11 | I35: =TRUNC(H35*F35,2) -> 496.65 | J35: =I35/$I$228 -> 0.00023423848 | K35: =IF(ISBLANK($A35),"",HYPERLINK("#ANALÍTICA!A"&MATCH($A35,ANALÍTICA!A:A,0),"Link")) -> Link
A36: 2 | D36: GRUPO 02 - IMPLANTAÇÃO | I36: =SUBTOTAL(109,I37:I52) -> 126200.08 | J36: 0.059520617 | K36: =IF(ISBLANK($A36),"",HYPERLINK("#ANALÍTICA!A"&MATCH($A36,ANALÍTICA!A:A,0),"Link")) -> Link
A37: 2.1 | D37: SERVIÇOS PRELIMINARES | I37: =SUBTOTAL(109,I38:I47) -> 123501.7 | J37: 0.058247961 | K37: =IF(ISBLANK($A37),"",HYPERLINK("#ANALÍTICA!A"&MATCH($A37,ANALÍTICA!A:A,0),"Link")) -> Link
A38: 2.1.1 | D38: MOBILIZAÇÃO | I38: =SUBTOTAL(109,I39:I47) -> 123501.7 | J38: 0.058247961 | K38: =IF(ISBLANK($A38),"",HYPERLINK("#ANALÍTICA!A"&MATCH($A38,ANALÍTICA!A:A,0),"Link")) -> Link
A39: 2.1.1.1 | D39: CONSTRUÇÕES PROVISÓRIAS | I39: =SUBTOTAL(109,I40:I44) -> 101511.91 | J39: 0.047876765 | K39: =IF(ISBLANK($A39),"",HYPERLINK("#ANALÍTICA!A"&MATCH($A39,ANALÍTICA!A:A,0),"Link")) -> Link
A40: 2.1.1.1.1 | B40: 93207 | C40: =UPPER(VLOOKUP(B40,ANALÍTICA!$B:$J,2,0)) -> SINAPI | D40: =UPPER(VLOOKUP(B40,ANALÍTICA!$B:$J,3,0)) -> EXECUÇÃO DE ESCRITÓRIO EM CANTEIRO DE OBRA EM CHAPA DE MADEIRA COMPENSADA, NÃO INCLUSO MOBILIÁRIO E EQUIPAMENTOS. AF_02/2016 | E40: =UPPER(VLOOKUP(B40,ANALÍTICA!$B:$J,6,0)) -> M² | F40: 18 | G40: =VLOOKUP(B40,ANALÍTICA!$B:$J,8,0) -> 1072.28 | H40: =TRUNC(G40*(1+$J$9),2) -> 1296.81 | I40: =TRUNC(H40*F40,2) -> 23342.58 | J40: =I40/$I$228 -> 0.011009223 | K40: =IF(ISBLANK($A40),"",HYPERLINK("#ANALÍTICA!A"&MATCH($A40,ANALÍTICA!A:A,0),"Link")) -> Link
A41: 2.1.1.1.2 | B41: 93212 | C41: =UPPER(VLOOKUP(B41,ANALÍTICA!$B:$J,2,0)) -> SINAPI | D41: =UPPER(VLOOKUP(B41,ANALÍTICA!$B:$J,3,0)) -> EXECUÇÃO DE SANITÁRIO E VESTIÁRIO EM CANTEIRO DE OBRA EM CHAPA DE MADEIRA COMPENSADA, NÃO INCLUSO MOBILIÁRIO. AF_02/2016 | E41: =UPPER(VLOOKUP(B41,ANALÍTICA!$B:$J,6,0)) -> M² | F41: 18 | G41: =VLOOKUP(B41,ANALÍTICA!$B:$J,8,0) -> 1002.31 | H41: =TRUNC(G41*(1+$J$9),2) -> 1212.19 | I41: =TRUNC(H41*F41,2) -> 21819.42 | J41: =I41/$I$228 -> 0.010290844 | K41: =IF(ISBLANK($A41),"",HYPERLINK("#ANALÍTICA!A"&MATCH($A41,ANALÍTICA!A:A,0),"Link")) -> Link
A42: 2.1.1.1.3 | B42: 93208 | C42: =UPPER(VLOOKUP(B42,ANALÍTICA!$B:$J,2,0)) -> SINAPI | D42: =UPPER(VLOOKUP(B42,ANALÍTICA!$B:$J,3,0)) -> EXECUÇÃO DE ALMOXARIFADO EM CANTEIRO DE OBRA EM CHAPA DE MADEIRA COMPENSADA, INCLUSO PRATELEIRAS. AF_02/2016 | E42: =UPPER(VLOOKUP(B42,ANALÍTICA!$B:$J,6,0)) -> M² | F42: 8 | G42: =VLOOKUP(B42,ANALÍTICA!$B:$J,8,0) -> 851.5 | H42: =TRUNC(G42*(1+$J$9),2) -> 1029.8 | I42: =TRUNC(H42*F42,2) -> 8238.4 | J42: =I42/$I$228 -> 0.0038855336 | K42: =IF(ISBLANK($A42),"",HYPERLINK("#ANALÍTICA!A"&MATCH($A42,ANALÍTICA!A:A,0),"Link")) -> Link
A43: 2.1.1.1.4 | B43: 93584 | C43: =UPPER(VLOOKUP(B43,ANALÍTICA!$B:$J,2,0)) -> SINAPI | D43: =UPPER(VLOOKUP(B43,ANALÍTICA!$B:$J,3,0)) -> EXECUÇÃO DE DEPÓSITO EM CANTEIRO DE OBRA EM CHAPA DE MADEIRA COMPENSADA, NÃO INCLUSO MOBILIÁRIO. AF_04/2016 | E43: =UPPER(VLOOKUP(B43,ANALÍTICA!$B:$J,6,0)) -> M² | F43: 48 | G43: =VLOOKUP(B43,ANALÍTICA!$B:$J,8,0) -> 805.58 | H43: =TRUNC(G43*(1+$J$9),2) -> 974.26 | I43: =TRUNC(H43*F43,2) -> 46764.48 | J43: =I43/$I$228 -> 0.022055855 | K43: =IF(ISBLANK($A43),"",HYPERLINK("#ANALÍTICA!A"&MATCH($A43,ANALÍTICA!A:A,0),"Link")) -> Link
...

Sheet ANALÍTICA
A2: =INSTRUÇÕES!A2 -> INSTITUTO DE GESTÃO ESTRATÉGICA DE SAÚDE
A3: =INSTRUÇÕES!A3 -> IGES-DF
A5: =INSTRUÇÕES!A6 -> OBRA: REFORMA - GAMA CÂMARA MEDICINA NUCLEAR HBDF - NÃO DESONERADO - R00
A6: PLANILHA ANALÍTICA
E8: =SINTÉTICA!$E$8 -> LEIS SOCIAIS NÃO DESONERADAS - REFERÊNCIA HORISTA SINAPI: LS | J8: =SINTÉTICA!$J$8 -> 1.1014
E9: =SINTÉTICA!$E$9 -> BENEFÍCIOS E DESPESAS INDIRETAS: BDI | J9: =BDI!D23 -> 0.2094
E10: =E9&"- EQUIPAMENTOS" -> BENEFÍCIOS E DESPESAS INDIRETAS: BDI- EQUIPAMENTOS | J10: =BDI!D36 -> 0.1089
E11: =SINTÉTICA!$E$11 -> REFERÊNCIA: SINAPI - DF - 01/22 (NÃO DESONERADA) | T11: 20 | U11: 21 | V11: 22 | W11: 23 | X11: 24 | Y11: 25 | Z11: 26 | AA11: 27 | AB11: 28 | AC11: 29
A12: ITEM | B12: CÓDIGO | C12: BANCO | D12: DESCRIÇÃO | E12: TIPO | G12: UND | H12: QUANT. | I12: VALOR UNIT | J12: TOTAL | L12: CONT | M12: TOT | N12: MO | O12: MAT | P12: COD | Q12: MO T | R12: MAT T | U12: Código | V12: Banco | W12: Descrição | X12: Tipo | Z12: Und | AA12: Quant.
L13: 1 | T13: Composição | U13: 88239 | V13: SINAPI | W13: AJUDANTE DE CARPINTEIRO COM ENCARGOS COMPLEMENTARES | X13: SEDI - SERVIÇOS DIVERSOS | Z13: H | AA13: 1 | AB13: =SUMIF(AE:AE,$L13,AF:AF) -> 0 | AC13: =TRUNC(AA13*AB13,2) -> 0
A14: 1 | D14: GRUPO 1 - ADM OBRA | L14: =IF(AND(A15<>"",A14=""),L13+1,L13) -> 1 | M14: =IF(OR(A14="Insumo",A14="Composição Auxiliar"),J14,"") | N14: =IF(ISNUMBER(SEARCH("COM ENCARGOS COMPLEMENTARES",D14)),J14,"") | O14: =IF(N14<>"","",M14) | P14: =IF(A14="Composição",A13,"") | Q14: =IF(P14<>"",SUMIF(L14:L114,L14,N14:N114),"") | R14: =IF(P14<>"",SUMIF(L14:L114,L14,O14:O114),"") | T14: Composição Auxiliar | U14: 95309 | V14: SINAPI | W14: CURSO DE CAPACITAÇÃO PARA AJUDANTE DE CARPINTEIRO (ENCARGOS COMPLEMENTARES) - HORISTA | X14: SEDI - SERVIÇOS DIVERSOS | Z14: H | AA14: 1 | AB14: =SUMIFS('ANALÍTICA AUXILIARES'!AC:AC,'ANALÍTICA AUXILIARES'!T:T,"Composição",'ANALÍTICA AUXILIARES'!U:U,$B14) -> 0 | AC14: =TRUNC(AA14*AB14,2) -> 0
A15: 1.1 | D15: SERVIÇOS TÉCNICO-PROFISSIONAIS | L15: =IF(AND(A16<>"",A15=""),L14+1,L14) -> 1 | M15: =IF(OR(A15="Insumo",A15="Composição Auxiliar"),J15,"") | N15: =IF(ISNUMBER(SEARCH("COM ENCARGOS COMPLEMENTARES",D15)),J15,"") | O15: =IF(N15<>"","",M15) | P15: =IF(A15="Composição",A14,"") | Q15: =IF(P15<>"",SUMIF(L15:L115,L15,N15:N115),"") | R15: =IF(P15<>"",SUMIF(L15:L115,L15,O15:O115),"") | T15: Insumo | U15: 00037370 | V15: =VLOOKUP(U15,INSUMOS!$A:$I,2,FALSE) -> SINAPI | W15: =VLOOKUP(U15,INSUMOS!$A:$I,3,FALSE) -> ALIMENTACAO - HORISTA (COLETADO CAIXA - ENCARGOS COMPLEMENTARES) | X15: =VLOOKUP(U15,INSUMOS!$A:$I,4,FALSE) -> Encargos Complementares | Z15: =VLOOKUP(U15,INSUMOS!$A:$I,5,FALSE) -> H | AA15: 1 | AB15: =VLOOKUP(U15,INSUMOS!$A:$I,8,FALSE) -> 4.29 | AC15: =TRUNC(AA15*AB15,2) -> 4.29
A16: 1.1.1 | D16: DESPESAS LEGAIS | L16: =IF(AND(A17<>"",A16=""),L15+1,L15) -> 1 | M16: =IF(OR(A16="Insumo",A16="Composição Auxiliar"),J16,"") | N16: =IF(ISNUMBER(SEARCH("COM ENCARGOS COMPLEMENTARES",D16)),J16,"") | O16: =IF(N16<>"","",M16) | P16: =IF(A16="Composição",A15,"") | Q16: =IF(P16<>"",SUMIF(L16:L116,L16,N16:N116),"") | R16: =IF(P16<>"",SUMIF(L16:L116,L16,O16:O116),"")
A17: 1.1.1.1 | D17: TAXAS | L17: =IF(AND(A18<>"",A17=""),L16+1,L16) -> 1 | M17: =IF(OR(A17="Insumo",A17="Composição Auxiliar"),J17,"") | N17: =IF(ISNUMBER(SEARCH("COM ENCARGOS COMPLEMENTARES",D17)),J17,"") | O17: =IF(N17<>"","",M17) | P17: =IF(A17="Composição",A16,"") | Q17: =IF(P17<>"",SUMIF(L17:L117,L17,N17:N117),"") | R17: =IF(P17<>"",SUMIF(L17:L117,L17,O17:O117),"") | U17: Valor com BDI => | W17: =TRUNC(SUMIF(Y:Y,$L17,Z:Z)*(1+$J$9),2) -> 0
A18: 1.1.1.1.1 | B18: Código | C18: Banco | D18: Descrição | E18: Tipo | G18: Und | H18: Quant. | I18: Valor Unit | J18: Total | L18: =IF(AND(A19<>"",A18=""),L17+1,L17) -> 1 | M18: =IF(OR(A18="Insumo",A18="Composição Auxiliar"),J18,"") | N18: =IF(ISNUMBER(SEARCH("COM ENCARGOS COMPLEMENTARES",D18)),J18,"") | O18: =IF(N18<>"","",M18) | P18: =IF(A18="Composição",A17,"") | Q18: =IF(P18<>"",SUMIF(L18:L118,L18,N18:N118),"") | R18: =IF(P18<>"",SUMIF(L18:L118,L18,O18:O118),"") | T18: Quant. => | U18: 1.6 | V18: Preço Total => | W18: =TRUNC(W17*U18,2) -> 0
A19: Composição | B19: IG-ART01 | C19: Próprio | D19: ART CREA DF 2025. REF UPACOMP347 | E19: SEOP - SERVIÇOS OPERACIONAIS | G19: UN | H19: 1 | I19: =SUMIF(L:L,$L19,M:M) -> 262.55 | J19: =TRUNC(H19*I19,2) -> 262.55 | L19: =IF(AND(A20<>"",A19=""),L18+1,L18) -> 1 | M19: =IF(OR(A19="Insumo",A19="Composição Auxiliar"),J19,"") | N19: =IF(ISNUMBER(SEARCH("COM ENCARGOS COMPLEMENTARES",D19)),J19,"") | O19: =IF(N19<>"","",M19) | P19: =IF(A19="Composição",A18,"") -> 1.1.1.1.1 | Q19: =IF(P19<>"",SUMIF(L19:L119,L19,N19:N119),"") -> 0 | R19: =IF(P19<>"",SUMIF(L19:L119,L19,O19:O119),"") -> 262.55
A20: Insumo | B20: UPAINS214 | C20: =VLOOKUP(B20,INSUMOS!$A:$I,2,FALSE) -> Próprio | D20: =VLOOKUP(B20,INSUMOS!$A:$I,3,FALSE) -> ART CREA DF 2024 | E20: =VLOOKUP(B20,INSUMOS!$A:$I,4,FALSE) -> Taxas | G20: =VLOOKUP(B20,INSUMOS!$A:$I,5,FALSE) -> UN | H20: 1 | I20: =VLOOKUP(B20,INSUMOS!$A:$I,8,FALSE) -> 262.55 | J20: =TRUNC(H20*I20,2) -> 262.55 | L20: =IF(AND(A21<>"",A20=""),L19+1,L19) -> 1 | M20: =IF(OR(A20="Insumo",A20="Composição Auxiliar"),J20,"") -> 262.55 | N20: =IF(ISNUMBER(SEARCH("COM ENCARGOS COMPLEMENTARES",D20)),J20,"") | O20: =IF(N20<>"","",M20) -> 262.55 | P20: =IF(A20="Composição",A19,"") | Q20: =IF(P20<>"",SUMIF(L20:L120,L20,N20:N120),"") | R20: =IF(P20<>"",SUMIF(L20:L120,L20,O20:O120),"")
L21: =IF(AND(A22<>"",A21=""),L20+1,L20) -> 1 | M21: =IF(OR(A21="Insumo",A21="Composição Auxiliar"),J21,"") | N21: =IF(ISNUMBER(SEARCH("COM ENCARGOS COMPLEMENTARES",D21)),J21,"") | O21: =IF(N21<>"","",M21) | P21: =IF(A21="Composição",A20,"") | Q21: =IF(P21<>"",SUMIF(L21:L121,L21,N21:N121),"") | R21: =IF(P21<>"",SUMIF(L21:L121,L21,O21:O121),"")
H22: Valor com BDI => | J22: =TRUNC(SUMIF(L:L,$L22,M:M)*(1+$J$9),2) -> 317.52 | L22: =IF(AND(A23<>"",A22=""),L21+1,L21) -> 1 | M22: =IF(OR(A22="Insumo",A22="Composição Auxiliar"),J22,"") | N22: =IF(ISNUMBER(SEARCH("COM ENCARGOS COMPLEMENTARES",D22)),J22,"") | O22: =IF(N22<>"","",M22) | P22: =IF(A22="Composição",A21,"") | Q22: =IF(P22<>"",SUMIF(L22:L122,L22,N22:N122),"") | R22: =IF(P22<>"",SUMIF(L22:L122,L22,O22:O122),"")
G23: Quant. => | H23: 3,00 | I23: Preço Total => | J23: =TRUNC(J22*H23,2) -> 952.56 | L23: =IF(AND(A24<>"",A23=""),L22+1,L22) -> 1 | M23: =IF(OR(A23="Insumo",A23="Composição Auxiliar"),J23,"") | N23: =IF(ISNUMBER(SEARCH("COM ENCARGOS COMPLEMENTARES",D23)),J23,"") | O23: =IF(N23<>"","",M23) | P23: =IF(A23="Composição",A22,"") | Q23: =IF(P23<>"",SUMIF(L23:L123,L23,N23:N123),"") | R23: =IF(P23<>"",SUMIF(L23:L123,L23,O23:O123),"")
L24: =IF(AND(A25<>"",A24=""),L23+1,L23) -> 2 | M24: =IF(OR(A24="Insumo",A24="Composição Auxiliar"),J24,"") | N24: =IF(ISNUMBER(SEARCH("COM ENCARGOS COMPLEMENTARES",D24)),J24,"") | O24: =IF(N24<>"","",M24) | P24: =IF(A24="Composição",A23,"") | Q24: =IF(P24<>"",SUMIF(L24:L124,L24,N24:N124),"") | R24: =IF(P24<>"",SUMIF(L24:L124,L24,O24:O124),"")
A25: 1.2 | D25: SERVIÇOS COMPLEMENTARES | L25: =IF(AND(A26<>"",A25=""),L24+1,L24) -> 2 | M25: =IF(OR(A25="Insumo",A25="Composição Auxiliar"),J25,"") | N25: =IF(ISNUMBER(SEARCH("COM ENCARGOS COMPLEMENTARES",D25)),J25,"") | O25: =IF(N25<>"","",M25) | P25: =IF(A25="Composição",A24,"") | Q25: =IF(P25<>"",SUMIF(L25:L125,L25,N25:N125),"") | R25: =IF(P25<>"",SUMIF(L25:L125,L25,O25:O125),"")
A26: 1.2.1 | D26: LIMPEZA DE OBRAS | L26: =IF(AND(A27<>"",A26=""),L25+1,L25) -> 2 | M26: =IF(OR(A26="Insumo",A26="Composição Auxiliar"),J26,"") | N26: =IF(ISNUMBER(SEARCH("COM ENCARGOS COMPLEMENTARES",D26)),J26,"") | O26: =IF(N26<>"","",M26) | P26: =IF(A26="Composição",A25,"") | Q26: =IF(P26<>"",SUMIF(L26:L126,L26,N26:N126),"") | R26: =IF(P26<>"",SUMIF(L26:L126,L26,O26:O126),"")
A27: 1.2.1.1 | D27: CONSERVAÇÃO E LIMPEZA | L27: =IF(AND(A28<>"",A27=""),L26+1,L26) -> 2 | M27: =IF(OR(A27="Insumo",A27="Composição Auxiliar"),J27,"") | N27: =IF(ISNUMBER(SEARCH("COM ENCARGOS COMPLEMENTARES",D27)),J27,"") | O27: =IF(N27<>"","",M27) | P27: =IF(A27="Composição",A26,"") | Q27: =IF(P27<>"",SUMIF(L27:L127,L27,N27:N127),"") | R27: =IF(P27<>"",SUMIF(L27:L127,L27,O27:O127),"")
A28: 1.2.1.1.1 | B28: Código | C28: Banco | D28: Descrição | E28: Tipo | G28: Und | H28: Quant. | I28: Valor Unit | J28: Total | L28: =IF(AND(A29<>"",A28=""),L27+1,L27) -> 2 | M28: =IF(OR(A28="Insumo",A28="Composição Auxiliar"),J28,"") | N28: =IF(ISNUMBER(SEARCH("COM ENCARGOS COMPLEMENTARES",D28)),J28,"") | O28: =IF(N28<>"","",M28) | P28: =IF(A28="Composição",A27,"") | Q28: =IF(P28<>"",SUMIF(L28:L128,L28,N28:N128),"") | R28: =IF(P28<>"",SUMIF(L28:L128,L28,O28:O128),"")
A29: Composição | B29: IG-LFO01 | C29: Próprio | D29: LIMPEZA FINAL DA OBRA. REF UPACOMP478 | E29: SEDI - SERVIÇOS DIVERSOS | G29: m² | H29: 1 | I29: =SUMIF(L:L,$L29,M:M) -> 4.2 | J29: =TRUNC(H29*I29,2) -> 4.2 | L29: =IF(AND(A30<>"",A29=""),L28+1,L28) -> 2 | M29: =IF(OR(A29="Insumo",A29="Composição Auxiliar"),J29,"") | N29: =IF(ISNUMBER(SEARCH("COM ENCARGOS COMPLEMENTARES",D29)),J29,"") | O29: =IF(N29<>"","",M29) | P29: =IF(A29="Composição",A28,"") -> 1.2.1.1.1 | Q29: =IF(P29<>"",SUMIF(L29:L129,L29,N29:N129),"") -> 3.51 | R29: =IF(P29<>"",SUMIF(L29:L129,L29,O29:O129),"") -> 0.69
A30: Composição Auxiliar | B30: 88316 | C30: SINAPI | D30: SERVENTE COM ENCARGOS COMPLEMENTARES | E30: Livro SINAPI: Cálculos e Parâmetros | G30: H | H30: 0.14 | I30: =SUMIFS('ANALÍTICA AUXILIARES'!J:J,'ANALÍTICA AUXILIARES'!A:A,"Composição",'ANALÍTICA AUXILIARES'!B:B,$B30) -> 25.11 | J30: =TRUNC(H30*I30,2) -> 3.51 | L30: =IF(AND(A31<>"",A30=""),L29+1,L29) -> 2 | M30: =IF(OR(A30="Insumo",A30="Composição Auxiliar"),J30,"") -> 3.51 | N30: =IF(ISNUMBER(SEARCH("COM ENCARGOS COMPLEMENTARES",D30)),J30,"") -> 3.51 | O30: =IF(N30<>"","",M30) | P30: =IF(A30="Composição",A29,"") | Q30: =IF(P30<>"",SUMIF(L30:L130,L30,N30:N130),"") | R30: =IF(P30<>"",SUMIF(L30:L130,L30,O30:O130),"")
A31: Insumo | B31: 00000003 | C31: =VLOOKUP(B31,INSUMOS!$A:$I,2,FALSE) -> SINAPI | D31: =VLOOKUP(B31,INSUMOS!$A:$I,3,FALSE) -> ACIDO CLORIDRICO / ACIDO MURIATICO, DILUICAO 10% A 12% PARA USO EM LIMPEZA | E31: =VLOOKUP(B31,INSUMOS!$A:$I,4,FALSE) -> Material | G31: =VLOOKUP(B31,INSUMOS!$A:$I,5,FALSE) -> L | H31: 0.05 | I31: =VLOOKUP(B31,INSUMOS!$A:$I,8,FALSE) -> 13.98 | J31: =TRUNC(H31*I31,2) -> 0.69 | L31: =IF(AND(A32<>"",A31=""),L30+1,L30) -> 2 | M31: =IF(OR(A31="Insumo",A31="Composição Auxiliar"),J31,"") -> 0.69 | N31: =IF(ISNUMBER(SEARCH("COM ENCARGOS COMPLEMENTARES",D31)),J31,"") | O31: =IF(N31<>"","",M31) -> 0.69 | P31: =IF(A31="Composição",A30,"") | Q31: =IF(P31<>"",SUMIF(L31:L131,L31,N31:N131),"") | R31: =IF(P31<>"",SUMIF(L31:L131,L31,O31:O131),"")
L32: =IF(AND(A33<>"",A32=""),L31+1,L31) -> 2 | M32: =IF(OR(A32="Insumo",A32="Composição Auxiliar"),J32,"") | N32: =IF(ISNUMBER(SEARCH("COM ENCARGOS COMPLEMENTARES",D32)),J32,"") | O32: =IF(N32<>"","",M32) | P32: =IF(A32="Composição",A31,"") | Q32: =IF(P32<>"",SUMIF(L32:L132,L32,N32:N132),"") | R32: =IF(P32<>"",SUMIF(L32:L132,L32,O32:O132),"")
H33: Valor com BDI => | J33: =TRUNC(SUMIF(L:L,$L33,M:M)*(1+$J$9),2) -> 5.07 | L33: =IF(AND(A34<>"",A33=""),L32+1,L32) -> 2 | M33: =IF(OR(A33="Insumo",A33="Composição Auxiliar"),J33,"") | N33: =IF(ISNUMBER(SEARCH("COM ENCARGOS COMPLEMENTARES",D33)),J33,"") | O33: =IF(N33<>"","",M33) | P33: =IF(A33="Composição",A32,"") | Q33: =IF(P33<>"",SUMIF(L33:L133,L33,N33:N133),"") | R33: =IF(P33<>"",SUMIF(L33:L133,L33,O33:O133),"")
G34: Quant. => | H34: 357,00 | I34: Preço Total => | J34: =TRUNC(J33*H34,2) -> 1809.99 | L34: =IF(AND(A35<>"",A34=""),L33+1,L33) -> 2 | M34: =IF(OR(A34="Insumo",A34="Composição Auxiliar"),J34,"") | N34: =IF(ISNUMBER(SEARCH("COM ENCARGOS COMPLEMENTARES",D34)),J34,"") | O34: =IF(N34<>"","",M34) | P34: =IF(A34="Composição",A33,"") | Q34: =IF(P34<>"",SUMIF(L34:L134,L34,N34:N134),"") | R34: =IF(P34<>"",SUMIF(L34:L134,L34,O34:O134),"")
L35: =IF(AND(A36<>"",A35=""),L34+1,L34) -> 3 | M35: =IF(OR(A35="Insumo",A35="Composição Auxiliar"),J35,"") | N35: =IF(ISNUMBER(SEARCH("COM ENCARGOS COMPLEMENTARES",D35)),J35,"") | O35: =IF(N35<>"","",M35) | P35: =IF(A35="Composição",A34,"") | Q35: =IF(P35<>"",SUMIF(L35:L135,L35,N35:N135),"") | R35: =IF(P35<>"",SUMIF(L35:L135,L35,O35:O135),"")
A36: 1.2.1.1.2 | B36: Código | C36: Banco | D36: Descrição | E36: Tipo | G36: Und | H36: Quant. | I36: Valor Unit | J36: Total | L36: =IF(AND(A37<>"",A36=""),L35+1,L35) -> 3 | M36: =IF(OR(A36="Insumo",A36="Composição Auxiliar"),J36,"") | N36: =IF(ISNUMBER(SEARCH("COM ENCARGOS COMPLEMENTARES",D36)),J36,"") | O36: =IF(N36<>"","",M36) | P36: =IF(A36="Composição",A35,"") | Q36: =IF(P36<>"",SUMIF(L36:L136,L36,N36:N136),"") | R36: =IF(P36<>"",SUMIF(L36:L136,L36,O36:O136),"")
A37: Composição | B37: IG-LPO01 | C37: Próprio | D37: LIMPEZA PERMANENTE DA OBRA. REF UPACOMP479 | E37: SEDI - SERVIÇOS DIVERSOS | G37: MÊS | H37: 1 | I37: =SUMIF(L:L,$L37,M:M) -> 552.42 | J37: =TRUNC(H37*I37,2) -> 552.42 | L37: =IF(AND(A38<>"",A37=""),L36+1,L36) -> 3 | M37: =IF(OR(A37="Insumo",A37="Composição Auxiliar"),J37,"") | N37: =IF(ISNUMBER(SEARCH("COM ENCARGOS COMPLEMENTARES",D37)),J37,"") | O37: =IF(N37<>"","",M37) | P37: =IF(A37="Composição",A36,"") -> 1.2.1.1.2 | Q37: =IF(P37<>"",SUMIF(L37:L137,L37,N37:N137),"") -> 552.42 | R37: =IF(P37<>"",SUMIF(L37:L137,L37,O37:O137),"") -> 0
A38: Composição Auxiliar | B38: 88316 | C38: SINAPI | D38: SERVENTE COM ENCARGOS COMPLEMENTARES | E38: Livro SINAPI: Cálculos e Parâmetros | G38: H | H38: 22 | I38: =SUMIFS('ANALÍTICA AUXILIARES'!J:J,'ANALÍTICA AUXILIARES'!A:A,"Composição",'ANALÍTICA AUXILIARES'!B:B,$B38) -> 25.11 | J38: =TRUNC(H38*I38,2) -> 552.42 | L38: =IF(AND(A39<>"",A38=""),L37+1,L37) -> 3 | M38: =IF(OR(A38="Insumo",A38="Composição Auxiliar"),J38,"") -> 552.42 | N38: =IF(ISNUMBER(SEARCH("COM ENCARGOS COMPLEMENTARES",D38)),J38,"") -> 552.42 | O38: =IF(N38<>"","",M38) | P38: =IF(A38="Composição",A37,"") | Q38: =IF(P38<>"",SUMIF(L38:L138,L38,N38:N138),"") | R38: =IF(P38<>"",SUMIF(L38:L138,L38,O38:O138),"")
L39: =IF(AND(A40<>"",A39=""),L38+1,L38) -> 3 | M39: =IF(OR(A39="Insumo",A39="Composição Auxiliar"),J39,"") | N39: =IF(ISNUMBER(SEARCH("COM ENCARGOS COMPLEMENTARES",D39)),J39,"") | O39: =IF(N39<>"","",M39) | P39: =IF(A39="Composição",A38,"") | Q39: =IF(P39<>"",SUMIF(L39:L139,L39,N39:N139),"") | R39: =IF(P39<>"",SUMIF(L39:L139,L39,O39:O139),"")
H40: Valor com BDI => | J40: =TRUNC(SUMIF(L:L,$L40,M:M)*(1+$J$9),2) -> 668.09 | L40: =IF(AND(A41<>"",A40=""),L39+1,L39) -> 3 | M40: =IF(OR(A40="Insumo",A40="Composição Auxiliar"),J40,"") | N40: =IF(ISNUMBER(SEARCH("COM ENCARGOS COMPLEMENTARES",D40)),J40,"") | O40: =IF(N40<>"","",M40) | P40: =IF(A40="Composição",A39,"") | Q40: =IF(P40<>"",SUMIF(L40:L140,L40,N40:N140),"") | R40: =IF(P40<>"",SUMIF(L40:L140,L40,O40:O140),"")
G41: Quant. => | H41: 6,00 | I41: Preço Total => | J41: =TRUNC(J40*H41,2) -> 4008.54 | L41: =IF(AND(A42<>"",A41=""),L40+1,L40) -> 3 | M41: =IF(OR(A41="Insumo",A41="Composição Auxiliar"),J41,"") | N41: =IF(ISNUMBER(SEARCH("COM ENCARGOS COMPLEMENTARES",D41)),J41,"") | O41: =IF(N41<>"","",M41) | P41: =IF(A41="Composição",A40,"") | Q41: =IF(P41<>"",SUMIF(L41:L141,L41,N41:N141),"") | R41: =IF(P41<>"",SUMIF(L41:L141,L41,O41:O141),"")
L42: =IF(AND(A43<>"",A42=""),L41+1,L41) -> 4 | M42: =IF(OR(A42="Insumo",A42="Composição Auxiliar"),J42,"") | N42: =IF(ISNUMBER(SEARCH("COM ENCARGOS COMPLEMENTARES",D42)),J42,"") | O42: =IF(N42<>"","",M42) | P42: =IF(A42="Composição",A41,"") | Q42: =IF(P42<>"",SUMIF(L42:L142,L42,N42:N142),"") | R42: =IF(P42<>"",SUMIF(L42:L142,L42,O42:O142),"")
A43: 1.2.1.1.3 | B43: Código | C43: Banco | D43: Descrição | E43: Tipo | G43: Und | H43: Quant. | I43: Valor Unit | J43: Total | L43: =IF(AND(A44<>"",A43=""),L42+1,L42) -> 4 | M43: =IF(OR(A43="Insumo",A43="Composição Auxiliar"),J43,"") | N43: =IF(ISNUMBER(SEARCH("COM ENCARGOS COMPLEMENTARES",D43)),J43,"") | O43: =IF(N43<>"","",M43) | P43: =IF(A43="Composição",A42,"") | Q43: =IF(P43<>"",SUMIF(L43:L143,L43,N43:N143),"") | R43: =IF(P43<>"",SUMIF(L43:L143,L43,O43:O143),"")
...

Sheet ANALÍTICA AUXILIARES
A2: =INSTRUÇÕES!A2 -> INSTITUTO DE GESTÃO ESTRATÉGICA DE SAÚDE
A3: =INSTRUÇÕES!A3 -> IGES-DF
A5: =INSTRUÇÕES!A6 -> OBRA: REFORMA - GAMA CÂMARA MEDICINA NUCLEAR HBDF - NÃO DESONERADO - R00
A6: PLANILHA ANALÍTICA - COMPOSIÇÕES AUXILIARES (SEM BDI)
E8: =SINTÉTICA!$E$8 -> LEIS SOCIAIS NÃO DESONERADAS - REFERÊNCIA HORISTA SINAPI: LS | J8: =SINTÉTICA!$J$8 -> 1.1014
E9: =SINTÉTICA!$E$9 -> BENEFÍCIOS E DESPESAS INDIRETAS: BDI | J9: =BDI!D23 -> 0.2094
E10: =SINTÉTICA!$E$11 -> REFERÊNCIA: SINAPI - DF - 01/22 (NÃO DESONERADA)
T11: 20 | U11: 21 | V11: 22 | W11: 23 | X11: 24 | Y11: 25 | Z11: 26 | AA11: 27 | AB11: 28 | AC11: 29
A12: TIPO | B12: CÓDIGO | C12: BANCO | D12: DESCRIÇÃO | E12: TIPO | G12: UND | H12: QUANT. | I12: VALOR UNIT SEM BDI | J12: TOTAL SEM BDI | L12: CONT | M12: TOT | N12: MO | O12: MAT | P12: COD | Q12: MO T | R12: MAT T | U12: Código | V12: Banco | W12: Descrição | X12: Tipo | Z12: Und | AA12: Quant.
T13: Composição | U13: 88239 | V13: SINAPI | W13: AJUDANTE DE CARPINTEIRO COM ENCARGOS COMPLEMENTARES | X13: SEDI - SERVIÇOS DIVERSOS | Z13: H | AA13: 1 | AB13: =SUMIF(AE:AE,$L13,AF:AF) -> 0 | AC13: =TRUNC(AA13*AB13,2) -> 0
A14: Composições Principais | L14: 1 | M14: =IF(OR(A14="Insumo",A14="Composição Auxiliar"),J14,"") | N14: =IF(E14="Mão de Obra",J14,"") | O14: =IF(N14<>"","",M14) | P14: =IF(A14="Composição",B14,"") | Q14: =IF(P14<>"",SUMIF(L14:L114,L14,N14:N114),"") | R14: =IF(P14<>"",SUMIF(L14:L114,L14,O14:O114),"") | T14: Composição Auxiliar | U14: 95309 | V14: SINAPI | W14: CURSO DE CAPACITAÇÃO PARA AJUDANTE DE CARPINTEIRO (ENCARGOS COMPLEMENTARES) - HORISTA | X14: SEDI - SERVIÇOS DIVERSOS | Z14: H | AA14: 1 | AB14: =SUMIFS(AC:AC,T:T,"Composição",U:U,$B14) -> 0 | AC14: =TRUNC(AA14*AB14,2) -> 0
A15: 1.1.1.1.1 | B15: Código | C15: Banco | D15: Descrição | E15: Tipo | G15: Und | H15: Quant. | I15: Valor Unit | J15: Total | L15: =IF(AND(A16<>"",A15=""),L14+1,L14) -> 1 | M15: =IF(OR(A15="Insumo",A15="Composição Auxiliar"),J15,"") | N15: =IF(E15="Mão de Obra",J15,"") | O15: =IF(N15<>"","",M15) | P15: =IF(A15="Composição",B15,"") | Q15: =IF(P15<>"",SUMIF(L15:L115,L15,N15:N115),"") | R15: =IF(P15<>"",SUMIF(L15:L115,L15,O15:O115),"") | T15: Insumo | U15: 00037370 | V15: =VLOOKUP(U15,INSUMOS!$A:$I,2,FALSE) -> SINAPI | W15: =VLOOKUP(U15,INSUMOS!$A:$I,3,FALSE) -> ALIMENTACAO - HORISTA (COLETADO CAIXA - ENCARGOS COMPLEMENTARES) | X15: =VLOOKUP(U15,INSUMOS!$A:$I,4,FALSE) -> Encargos Complementares | Z15: =VLOOKUP(U15,INSUMOS!$A:$I,5,FALSE) -> H | AA15: 1 | AB15: =VLOOKUP(U15,INSUMOS!$A:$I,8,FALSE) -> 4.29 | AC15: =TRUNC(AA15*AB15,2) -> 4.29
A16: Composição | B16: IG-ART01 | C16: Próprio | D16: ART CREA DF 2025. REF UPACOMP347 | E16: SEOP - SERVIÇOS OPERACIONAIS | G16: UN | H16: 1 | I16: =SUMIF(L:L,$L16,M:M) -> 262.55 | J16: =TRUNC(H16*I16,2) -> 262.55 | L16: =IF(AND(A17<>"",A16=""),L15+1,L15) -> 1 | M16: =IF(OR(A16="Insumo",A16="Composição Auxiliar"),J16,"") | N16: =IF(E16="Mão de Obra",J16,"") | O16: =IF(N16<>"","",M16) | P16: =IF(A16="Composição",B16,"") -> IG-ART01 | Q16: =IF(P16<>"",SUMIF(L16:L116,L16,N16:N116),"") -> 0 | R16: =IF(P16<>"",SUMIF(L16:L116,L16,O16:O116),"") -> 262.55
A17: Insumo | B17: UPAINS214 | C17: =VLOOKUP(B17,INSUMOS!$A:$I,2,FALSE) -> Próprio | D17: =VLOOKUP(B17,INSUMOS!$A:$I,3,FALSE) -> ART CREA DF 2024 | E17: =VLOOKUP(B17,INSUMOS!$A:$I,4,FALSE) -> Taxas | G17: =VLOOKUP(B17,INSUMOS!$A:$I,5,FALSE) -> UN | H17: 1 | I17: =VLOOKUP(B17,INSUMOS!$A:$I,8,FALSE) -> 262.55 | J17: =TRUNC(H17*I17,2) -> 262.55 | L17: =IF(AND(A18<>"",A17=""),L16+1,L16) -> 1 | M17: =IF(OR(A17="Insumo",A17="Composição Auxiliar"),J17,"") -> 262.55 | N17: =IF(E17="Mão de Obra",J17,"") | O17: =IF(N17<>"","",M17) -> 262.55 | P17: =IF(A17="Composição",B17,"") | Q17: =IF(P17<>"",SUMIF(L17:L117,L17,N17:N117),"") | R17: =IF(P17<>"",SUMIF(L17:L117,L17,O17:O117),"")
L18: =IF(AND(A19<>"",A18=""),L17+1,L17) -> 1 | M18: =IF(OR(A18="Insumo",A18="Composição Auxiliar"),J18,"") | N18: =IF(E18="Mão de Obra",J18,"") | O18: =IF(N18<>"","",M18) | P18: =IF(A18="Composição",B18,"") | Q18: =IF(P18<>"",SUMIF(L18:L118,L18,N18:N118),"") | R18: =IF(P18<>"",SUMIF(L18:L118,L18,O18:O118),"")
L19: =IF(AND(A20<>"",A19=""),L18+1,L18) -> 1 | M19: =IF(OR(A19="Insumo",A19="Composição Auxiliar"),J19,"") | N19: =IF(E19="Mão de Obra",J19,"") | O19: =IF(N19<>"","",M19) | P19: =IF(A19="Composição",B19,"") | Q19: =IF(P19<>"",SUMIF(L19:L119,L19,N19:N119),"") | R19: =IF(P19<>"",SUMIF(L19:L119,L19,O19:O119),"")
L20: =IF(AND(A21<>"",A20=""),L19+1,L19) -> 2 | M20: =IF(OR(A20="Insumo",A20="Composição Auxiliar"),J20,"") | N20: =IF(E20="Mão de Obra",J20,"") | O20: =IF(N20<>"","",M20) | P20: =IF(A20="Composição",B20,"") | Q20: =IF(P20<>"",SUMIF(L20:L120,L20,N20:N120),"") | R20: =IF(P20<>"",SUMIF(L20:L120,L20,O20:O120),"")
A21: 1.2.1.1.1 | B21: Código | C21: Banco | D21: Descrição | E21: Tipo | G21: Und | H21: Quant. | I21: Valor Unit | J21: Total | L21: =IF(AND(A22<>"",A21=""),L20+1,L20) -> 2 | M21: =IF(OR(A21="Insumo",A21="Composição Auxiliar"),J21,"") | N21: =IF(E21="Mão de Obra",J21,"") | O21: =IF(N21<>"","",M21) | P21: =IF(A21="Composição",B21,"") | Q21: =IF(P21<>"",SUMIF(L21:L121,L21,N21:N121),"") | R21: =IF(P21<>"",SUMIF(L21:L121,L21,O21:O121),"")
A22: Composição | B22: IG-LFO01 | C22: Próprio | D22: LIMPEZA FINAL DA OBRA. REF UPACOMP478 | E22: SEDI - SERVIÇOS DIVERSOS | G22: m² | H22: 1 | I22: =SUMIF(L:L,$L22,M:M) -> 4.2 | J22: =TRUNC(H22*I22,2) -> 4.2 | L22: =IF(AND(A23<>"",A22=""),L21+1,L21) -> 2 | M22: =IF(OR(A22="Insumo",A22="Composição Auxiliar"),J22,"") | N22: =IF(E22="Mão de Obra",J22,"") | O22: =IF(N22<>"","",M22) | P22: =IF(A22="Composição",B22,"") -> IG-LFO01 | Q22: =IF(P22<>"",SUMIF(L22:L122,L22,N22:N122),"") -> 0 | R22: =IF(P22<>"",SUMIF(L22:L122,L22,O22:O122),"") -> 4.2
A23: Composição Auxiliar | B23: 88316 | C23: SINAPI | D23: SERVENTE COM ENCARGOS COMPLEMENTARES | E23: Livro SINAPI: Cálculos e Parâmetros | G23: H | H23: 0.14 | I23: =SUMIFS(J:J,A:A,"Composição",B:B,$B23) -> 25.11 | J23: =TRUNC(H23*I23,2) -> 3.51 | L23: =IF(AND(A24<>"",A23=""),L22+1,L22) -> 2 | M23: =IF(OR(A23="Insumo",A23="Composição Auxiliar"),J23,"") -> 3.51 | N23: =IF(E23="Mão de Obra",J23,"") | O23: =IF(N23<>"","",M23) -> 3.51 | P23: =IF(A23="Composição",B23,"") | Q23: =IF(P23<>"",SUMIF(L23:L123,L23,N23:N123),"") | R23: =IF(P23<>"",SUMIF(L23:L123,L23,O23:O123),"")
A24: Insumo | B24: 00000003 | C24: =VLOOKUP(B24,INSUMOS!$A:$I,2,FALSE) -> SINAPI | D24: =VLOOKUP(B24,INSUMOS!$A:$I,3,FALSE) -> ACIDO CLORIDRICO / ACIDO MURIATICO, DILUICAO 10% A 12% PARA USO EM LIMPEZA | E24: =VLOOKUP(B24,INSUMOS!$A:$I,4,FALSE) -> Material | G24: =VLOOKUP(B24,INSUMOS!$A:$I,5,FALSE) -> L | H24: 0.05 | I24: =VLOOKUP(B24,INSUMOS!$A:$I,8,FALSE) -> 13.98 | J24: =TRUNC(H24*I24,2) -> 0.69 | L24: =IF(AND(A25<>"",A24=""),L23+1,L23) -> 2 | M24: =IF(OR(A24="Insumo",A24="Composição Auxiliar"),J24,"") -> 0.69 | N24: =IF(E24="Mão de Obra",J24,"") | O24: =IF(N24<>"","",M24) -> 0.69 | P24: =IF(A24="Composição",B24,"") | Q24: =IF(P24<>"",SUMIF(L24:L124,L24,N24:N124),"") | R24: =IF(P24<>"",SUMIF(L24:L124,L24,O24:O124),"")
L25: =IF(AND(A26<>"",A25=""),L24+1,L24) -> 2 | M25: =IF(OR(A25="Insumo",A25="Composição Auxiliar"),J25,"") | N25: =IF(E25="Mão de Obra",J25,"") | O25: =IF(N25<>"","",M25) | P25: =IF(A25="Composição",B25,"") | Q25: =IF(P25<>"",SUMIF(L25:L125,L25,N25:N125),"") | R25: =IF(P25<>"",SUMIF(L25:L125,L25,O25:O125),"")
L26: =IF(AND(A27<>"",A26=""),L25+1,L25) -> 2 | M26: =IF(OR(A26="Insumo",A26="Composição Auxiliar"),J26,"") | N26: =IF(E26="Mão de Obra",J26,"") | O26: =IF(N26<>"","",M26) | P26: =IF(A26="Composição",B26,"") | Q26: =IF(P26<>"",SUMIF(L26:L126,L26,N26:N126),"") | R26: =IF(P26<>"",SUMIF(L26:L126,L26,O26:O126),"")
L27: =IF(AND(A28<>"",A27=""),L26+1,L26) -> 3 | M27: =IF(OR(A27="Insumo",A27="Composição Auxiliar"),J27,"") | N27: =IF(E27="Mão de Obra",J27,"") | O27: =IF(N27<>"","",M27) | P27: =IF(A27="Composição",B27,"") | Q27: =IF(P27<>"",SUMIF(L27:L127,L27,N27:N127),"") | R27: =IF(P27<>"",SUMIF(L27:L127,L27,O27:O127),"")
A28: 1.2.1.1.2 | B28: Código | C28: Banco | D28: Descrição | E28: Tipo | G28: Und | H28: Quant. | I28: Valor Unit | J28: Total | L28: =IF(AND(A29<>"",A28=""),L27+1,L27) -> 3 | M28: =IF(OR(A28="Insumo",A28="Composição Auxiliar"),J28,"") | N28: =IF(E28="Mão de Obra",J28,"") | O28: =IF(N28<>"","",M28) | P28: =IF(A28="Composição",B28,"") | Q28: =IF(P28<>"",SUMIF(L28:L128,L28,N28:N128),"") | R28: =IF(P28<>"",SUMIF(L28:L128,L28,O28:O128),"")
A29: Composição | B29: IG-LPO01 | C29: Próprio | D29: LIMPEZA PERMANENTE DA OBRA. REF UPACOMP479 | E29: SEDI - SERVIÇOS DIVERSOS | G29: MÊS | H29: 1 | I29: =SUMIF(L:L,$L29,M:M) -> 552.42 | J29: =TRUNC(H29*I29,2) -> 552.42 | L29: =IF(AND(A30<>"",A29=""),L28+1,L28) -> 3 | M29: =IF(OR(A29="Insumo",A29="Composição Auxiliar"),J29,"") | N29: =IF(E29="Mão de Obra",J29,"") | O29: =IF(N29<>"","",M29) | P29: =IF(A29="Composição",B29,"") -> IG-LPO01 | Q29: =IF(P29<>"",SUMIF(L29:L129,L29,N29:N129),"") -> 0 | R29: =IF(P29<>"",SUMIF(L29:L129,L29,O29:O129),"") -> 552.42
A30: Composição Auxiliar | B30: 88316 | C30: SINAPI | D30: SERVENTE COM ENCARGOS COMPLEMENTARES | E30: Livro SINAPI: Cálculos e Parâmetros | G30: H | H30: 22 | I30: =SUMIFS(J:J,A:A,"Composição",B:B,$B30) -> 25.11 | J30: =TRUNC(H30*I30,2) -> 552.42 | L30: =IF(AND(A31<>"",A30=""),L29+1,L29) -> 3 | M30: =IF(OR(A30="Insumo",A30="Composição Auxiliar"),J30,"") -> 552.42 | N30: =IF(E30="Mão de Obra",J30,"") | O30: =IF(N30<>"","",M30) -> 552.42 | P30: =IF(A30="Composição",B30,"") | Q30: =IF(P30<>"",SUMIF(L30:L130,L30,N30:N130),"") | R30: =IF(P30<>"",SUMIF(L30:L130,L30,O30:O130),"")
L31: =IF(AND(A32<>"",A31=""),L30+1,L30) -> 3 | M31: =IF(OR(A31="Insumo",A31="Composição Auxiliar"),J31,"") | N31: =IF(E31="Mão de Obra",J31,"") | O31: =IF(N31<>"","",M31) | P31: =IF(A31="Composição",B31,"") | Q31: =IF(P31<>"",SUMIF(L31:L131,L31,N31:N131),"") | R31: =IF(P31<>"",SUMIF(L31:L131,L31,O31:O131),"")
L32: =IF(AND(A33<>"",A32=""),L31+1,L31) -> 3 | M32: =IF(OR(A32="Insumo",A32="Composição Auxiliar"),J32,"") | N32: =IF(E32="Mão de Obra",J32,"") | O32: =IF(N32<>"","",M32) | P32: =IF(A32="Composição",B32,"") | Q32: =IF(P32<>"",SUMIF(L32:L132,L32,N32:N132),"") | R32: =IF(P32<>"",SUMIF(L32:L132,L32,O32:O132),"")
L33: =IF(AND(A34<>"",A33=""),L32+1,L32) -> 4 | M33: =IF(OR(A33="Insumo",A33="Composição Auxiliar"),J33,"") | N33: =IF(E33="Mão de Obra",J33,"") | O33: =IF(N33<>"","",M33) | P33: =IF(A33="Composição",B33,"") | Q33: =IF(P33<>"",SUMIF(L33:L133,L33,N33:N133),"") | R33: =IF(P33<>"",SUMIF(L33:L133,L33,O33:O133),"")
A34: 1.2.1.1.3 | B34: Código | C34: Banco | D34: Descrição | E34: Tipo | G34: Und | H34: Quant. | I34: Valor Unit | J34: Total | L34: =IF(AND(A35<>"",A34=""),L33+1,L33) -> 4 | M34: =IF(OR(A34="Insumo",A34="Composição Auxiliar"),J34,"") | N34: =IF(E34="Mão de Obra",J34,"") | O34: =IF(N34<>"","",M34) | P34: =IF(A34="Composição",B34,"") | Q34: =IF(P34<>"",SUMIF(L34:L134,L34,N34:N134),"") | R34: =IF(P34<>"",SUMIF(L34:L134,L34,O34:O134),"")
A35: Composição | B35: IG-CE01 | C35: Próprio | D35: CONTAINER PARA ENTULHO INCLUINDO TAXA DE DEPOSIÇÃO FINAL. REF UPACOMP574 | E35: SEDI - SERVIÇOS DIVERSOS | G35: UN | H35: 1 | I35: =SUMIF(L:L,$L35,M:M) -> 350 | J35: =TRUNC(H35*I35,2) -> 350 | L35: =IF(AND(A36<>"",A35=""),L34+1,L34) -> 4 | M35: =IF(OR(A35="Insumo",A35="Composição Auxiliar"),J35,"") | N35: =IF(E35="Mão de Obra",J35,"") | O35: =IF(N35<>"","",M35) | P35: =IF(A35="Composição",B35,"") -> IG-CE01 | Q35: =IF(P35<>"",SUMIF(L35:L135,L35,N35:N135),"") -> 0 | R35: =IF(P35<>"",SUMIF(L35:L135,L35,O35:O135),"") -> 350
A36: Insumo | B36: UPAINS252 | C36: =VLOOKUP(B36,INSUMOS!$A:$I,2,FALSE) -> Próprio | D36: =VLOOKUP(B36,INSUMOS!$A:$I,3,FALSE) -> CONTAINER PARA ENTULHO INCLUINDO TAXA DE DEPOSIÇÃO FINAL | E36: =VLOOKUP(B36,INSUMOS!$A:$I,4,FALSE) -> Material | G36: =VLOOKUP(B36,INSUMOS!$A:$I,5,FALSE) -> UN | H36: 1 | I36: =VLOOKUP(B36,INSUMOS!$A:$I,8,FALSE) -> 350 | J36: =TRUNC(H36*I36,2) -> 350 | L36: =IF(AND(A37<>"",A36=""),L35+1,L35) -> 4 | M36: =IF(OR(A36="Insumo",A36="Composição Auxiliar"),J36,"") -> 350 | N36: =IF(E36="Mão de Obra",J36,"") | O36: =IF(N36<>"","",M36) -> 350 | P36: =IF(A36="Composição",B36,"") | Q36: =IF(P36<>"",SUMIF(L36:L136,L36,N36:N136),"") | R36: =IF(P36<>"",SUMIF(L36:L136,L36,O36:O136),"")
L37: =IF(AND(A38<>"",A37=""),L36+1,L36) -> 4 | M37: =IF(OR(A37="Insumo",A37="Composição Auxiliar"),J37,"") | N37: =IF(E37="Mão de Obra",J37,"") | O37: =IF(N37<>"","",M37) | P37: =IF(A37="Composição",B37,"") | Q37: =IF(P37<>"",SUMIF(L37:L137,L37,N37:N137),"") | R37: =IF(P37<>"",SUMIF(L37:L137,L37,O37:O137),"")
L38: =IF(AND(A39<>"",A38=""),L37+1,L37) -> 4 | M38: =IF(OR(A38="Insumo",A38="Composição Auxiliar"),J38,"") | N38: =IF(E38="Mão de Obra",J38,"") | O38: =IF(N38<>"","",M38) | P38: =IF(A38="Composição",B38,"") | Q38: =IF(P38<>"",SUMIF(L38:L138,L38,N38:N138),"") | R38: =IF(P38<>"",SUMIF(L38:L138,L38,O38:O138),"")
L39: =IF(AND(A40<>"",A39=""),L38+1,L38) -> 5 | M39: =IF(OR(A39="Insumo",A39="Composição Auxiliar"),J39,"") | N39: =IF(E39="Mão de Obra",J39,"") | O39: =IF(N39<>"","",M39) | P39: =IF(A39="Composição",B39,"") | Q39: =IF(P39<>"",SUMIF(L39:L139,L39,N39:N139),"") | R39: =IF(P39<>"",SUMIF(L39:L139,L39,O39:O139),"")
A40: 1.2.2.1 | B40: Código | C40: Banco | D40: Descrição | E40: Tipo | G40: Und | H40: Quant. | I40: Valor Unit | J40: Total | L40: =IF(AND(A41<>"",A40=""),L39+1,L39) -> 5 | M40: =IF(OR(A40="Insumo",A40="Composição Auxiliar"),J40,"") | N40: =IF(E40="Mão de Obra",J40,"") | O40: =IF(N40<>"","",M40) | P40: =IF(A40="Composição",B40,"") | Q40: =IF(P40<>"",SUMIF(L40:L140,L40,N40:N140),"") | R40: =IF(P40<>"",SUMIF(L40:L140,L40,O40:O140),"")
A41: Composição | B41: IG-ABP01 | C41: Próprio | D41: AS BUILT, DE TODOS OS PROJETOS, (ARQUITETURA E INSTALAÇÕES). REF UPACOMP480 | E41: SERT - SERVIÇOS TÉCNICOS | G41: m² | H41: 1 | I41: =SUMIF(L:L,$L41,M:M) -> 0.6 | J41: =TRUNC(H41*I41,2) -> 0.6 | L41: =IF(AND(A42<>"",A41=""),L40+1,L40) -> 5 | M41: =IF(OR(A41="Insumo",A41="Composição Auxiliar"),J41,"") | N41: =IF(E41="Mão de Obra",J41,"") | O41: =IF(N41<>"","",M41) | P41: =IF(A41="Composição",B41,"") -> IG-ABP01 | Q41: =IF(P41<>"",SUMIF(L41:L141,L41,N41:N141),"") -> 0 | R41: =IF(P41<>"",SUMIF(L41:L141,L41,O41:O141),"") -> 0.6
A42: Composição Auxiliar | B42: 90773 | C42: SINAPI | D42: DESENHISTA COPISTA COM ENCARGOS COMPLEMENTARES | E42: SEDI - SERVIÇOS DIVERSOS | G42: H | H42: 0.058 | I42: =SUMIFS(J:J,A:A,"Composição",B:B,$B42) -> 10.35 | J42: =TRUNC(H42*I42,2) -> 0.6 | L42: =IF(AND(A43<>"",A42=""),L41+1,L41) -> 5 | M42: =IF(OR(A42="Insumo",A42="Composição Auxiliar"),J42,"") -> 0.6 | N42: =IF(E42="Mão de Obra",J42,"") | O42: =IF(N42<>"","",M42) -> 0.6 | P42: =IF(A42="Composição",B42,"") | Q42: =IF(P42<>"",SUMIF(L42:L142,L42,N42:N142),"") | R42: =IF(P42<>"",SUMIF(L42:L142,L42,O42:O142),"")
L43: =IF(AND(A44<>"",A43=""),L42+1,L42) -> 5 | M43: =IF(OR(A43="Insumo",A43="Composição Auxiliar"),J43,"") | N43: =IF(E43="Mão de Obra",J43,"") | O43: =IF(N43<>"","",M43) | P43: =IF(A43="Composição",B43,"") | Q43: =IF(P43<>"",SUMIF(L43:L143,L43,N43:N143),"") | R43: =IF(P43<>"",SUMIF(L43:L143,L43,O43:O143),"")
...

Sheet INSUMOS
A2: ='ANALÍTICA AUXILIARES'!A2:J2 -> INSTITUTO DE GESTÃO ESTRATÉGICA DE SAÚDE
A3: ='ANALÍTICA AUXILIARES'!A3:J3 -> IGES-DF
A5: ='ANALÍTICA AUXILIARES'!A5:J5 -> OBRA: REFORMA - GAMA CÂMARA MEDICINA NUCLEAR HBDF - NÃO DESONERADO - R00
A6: LISTAGEM DE INSUMOS (VALOR UNITÁRIO SEM BDI)
A7: =SINTÉTICA!E11 -> REFERÊNCIA: SINAPI - DF - 01/22 (NÃO DESONERADA)
A9: CÓDIGO | B9: BANCO | C9: DESCRIÇÃO | D9: TIPO | E9: UND | F9: QUANT. | G9: VALOR UNITÁRIO SEM BDI (ORIGINAL) | H9: VALOR UNITÁRIO SEM BDI (EMPRESA) | I9: PESO
A11: IG-CH-AQ-15TR-MI. | B11: Próprio | C11: 1 und Chiller Aquasmart 30EVA15386MAB, capacidade de 15 TR, unidade mestre, com inversor de frequência, kit de conexão e módulo de comunicação Modbus, ou equivalente e 2 und Chiller Aquasmart 30EXA15386MAB, capacidade de 15 TR, unidade escrava, operação fixa, com kit de conexão e módulo de comunicação Modbus, ou equivalente | D11: Equipamento para Aquisição Permanente | E11: UN | F11: 1 | G11: 191003.75 | H11: =TRUNC(G11*(1-(SINTÉTICA!$I$226)),2) -> 191003.75 | I11: =F11*H11/(SUM($K:$K)) -> 0.11201675 | K11: =F11*H11 -> 191003.75
A12: IG-FCL.30EVA | B12: Próprio | C12: Fancoil modelo 39D de capacidade 35TR posição de montagem horizontal descarga vertical (H5), Ventilador Limit Load Vazão de 23800 m³/h, Filtro G4+F8, Pintado ou equivalente | D12: Equipamento para Aquisição Permanente | E12: UN | F12: 2 | G12: 94109.88 | H12: =TRUNC(G12*(1-(SINTÉTICA!$I$226)),2) -> 94109.88 | I12: =F12*H12/(SUM($K:$K)) -> 0.11038404 | K12: =F12*H12 -> 188219.76
A13: IG-I-PFRV-ALNOG/MR | B13: Próprio | C13: PAINEL FIXO RIPADO VERTICAL ESTRUTURADO EM ALUMÍNIO AMADEIRADO NOGUEIRA OU EM PINTURA MARROM SIMILAR | D13: Material | E13: m² | F13: 184.8 | G13: 453.95 | H13: =TRUNC(G13*(1-(SINTÉTICA!$I$226)),2) -> 453.95 | I13: =F13*H13/(SUM($K:$K)) -> 0.049198411 | K13: =F13*H13 -> 83889.96
A14: 00037370 | B14: SINAPI | C14: ALIMENTACAO - HORISTA (COLETADO CAIXA - ENCARGOS COMPLEMENTARES) | D14: Encargos Complementares | E14: H | F14: 16628.201 | G14: 4.29 | H14: =TRUNC(G14*(1-(SINTÉTICA!$I$226)),2) -> 4.29 | I14: =F14*H14/(SUM($K:$K)) -> 0.041835374 | K14: =F14*H14 -> 71334.984
A15: 00040813 | B15: SINAPI | C15: ENGENHEIRO CIVIL DE OBRA PLENO (MENSALISTA) | D15: Mão de Obra | E15: MES | F15: 2.5 | G15: 27711.53 | H15: =TRUNC(G15*(1-(SINTÉTICA!$I$226)),2) -> 27711.53 | I15: =F15*H15/(SUM($K:$K)) -> 0.040629512 | K15: =F15*H15 -> 69278.825
A16: 00006111 | B16: SINAPI | C16: SERVENTE DE OBRAS (HORISTA) | D16: Mão de Obra | E16: H | F16: 4057.8861 | G16: 15.65 | H16: =TRUNC(G16*(1-(SINTÉTICA!$I$226)),2) -> 15.65 | I16: =F16*H16/(SUM($K:$K)) -> 0.037243911 | K16: =F16*H16 -> 63505.917
A17: 016113 | B17: SBC | C17: TELHA METALICA SANDUICHE TRAPEZOIDAL 2 FACES NUCEO EM PIR 50mm TR40 1,00m | D17: Material | E17: m² | F17: 250.239 | G17: 215.21 | H17: =TRUNC(G17*(1-(SINTÉTICA!$I$226)),2) -> 215.21 | I17: =F17*H17/(SUM($K:$K)) -> 0.031583375 | K17: =F17*H17 -> 53853.935
A18: 00040819 | B18: SINAPI | C18: MESTRE DE OBRAS (MENSALISTA) | D18: Mão de Obra | E18: MES | F18: 5 | G18: 8892.19 | H18: =TRUNC(G18*(1-(SINTÉTICA!$I$226)),2) -> 8892.19 | I18: =F18*H18/(SUM($K:$K)) -> 0.02607473 | K18: =F18*H18 -> 44460.95
A19: 00006160 | B19: SINAPI | C19: SOLDADOR (HORISTA) | D19: Mão de Obra | E19: H | F19: 1807.3031 | G19: 23.15 | H19: =TRUNC(G19*(1-(SINTÉTICA!$I$226)),2) -> 23.15 | I19: =F19*H19/(SUM($K:$K)) -> 0.024537092 | K19: =F19*H19 -> 41839.068
A20: 00044497 | B20: SINAPI | C20: MONTADOR DE ESTRUTURAS METALICAS HORISTA | D20: Mão de Obra | E20: H | F20: 2061.1188 | G20: 18.65 | H20: =TRUNC(G20*(1-(SINTÉTICA!$I$226)),2) -> 18.65 | I20: =F20*H20/(SUM($K:$K)) -> 0.022543583 | K20: =F20*H20 -> 38439.865
A21: 00004783 | B21: SINAPI | C21: PINTOR (HORISTA) | D21: Mão de Obra | E21: H | F21: 1405.8182 | G21: 23.15 | H21: =TRUNC(G21*(1-(SINTÉTICA!$I$226)),2) -> 23.15 | I21: =F21*H21/(SUM($K:$K)) -> 0.019086278 | K21: =F21*H21 -> 32544.692
A22: 00034492 | B22: SINAPI | C22: CONCRETO USINADO BOMBEAVEL, CLASSE DE RESISTENCIA C20, COM BRITA 0 E 1, SLUMP = 100 +/- 20 MM, EXCLUI SERVICO DE BOMBEAMENTO (NBR 8953) | D22: Material | E22: m³ | F22: 59.445804 | G22: 530 | H22: =TRUNC(G22*(1-(SINTÉTICA!$I$226)),2) -> 530 | I22: =F22*H22/(SUM($K:$K)) -> 0.018477285 | K22: =F22*H22 -> 31506.276
... A89: 00006117 | B89: SINAPI | C89: CARPINTEIRO AUXILIAR (HORISTA) | D89: Mão de Obra | E89: H | F89: 216.72633 | G89: 16.57 | H89: =TRUNC(G89*(1-(SINTÉTICA!$I$226)),2) -> 16.57 | I89: =F89*H89/(SUM($K:$K)) -> 0.002106082 | K89: =F89*H89 -> 3591.1552
A90: 00000135 | B90: SINAPI | C90: ARGAMASSA POLIMERICA IMPERMEABILIZANTE SEMIFLEXIVEL, BICOMPONENTE, A BASE DE CIMENTO E ADITIVOS | D90: Material | E90: KG | F90: 899.99 | G90: 3.85 | H90: =TRUNC(G90*(1-(SINTÉTICA!$I$226)),2) -> 3.85 | I90: =F90*H90/(SUM($K:$K)) -> 0.0020320739
A91: 00043492 | B91: SINAPI | C91: EPI - FAMILIA SOLDADOR - HORISTA (ENCARGOS COMPLEMENTARES - COLETADO CAIXA) | D91: Encargos Complementares | E91: H | F91: 1786.6848 | G91: 1.92 | H91: =TRUNC(G91*(1-(SINTÉTICA!$I$226)),2) -> 1.92 | I91: =F91*H91/(SUM($K:$K)) -> 0.0020118253 | K91: =F91*H91 -> 3430.4348
A92: IG-VEN-277-2400-051 | B92: Próprio | C92: Ventilador centrífugo Sicflux Titan SGSD 277 mm, 0,5 CV, trifásico 220/380 V, c/ coxins, vazão 2.400 m³/h, 5,11 mmca | D92: Equipamento para Aquisição Permanente | E92: UN | F92: 1 | G92: 3234 | H92: =TRUNC(G92*(1-(SINTÉTICA!$I$226)),2) -> 3234 | I92: =F92*H92/(SUM($K:$K)) -> 0.0018966234 | K92: =F92*H92 -> 3234
A93: 00042403 | B93: SINAPI | C93: ACO CA-25, 20,0 MM, BARRA DE TRANSFERENCIA | D93: Material | E93: KG | F93: 307.428 | G93: 10.22 | H93: =TRUNC(G93*(1-(SINTÉTICA!$I$226)),2) -> 10.22 | I93: =F93*H93/(SUM($K:$K)) -> 0.0018426184 | K93: =F93*H93 -> 3141.9142
A94: 00043467 | B94: SINAPI | C94: FERRAMENTAS - FAMILIA SERVENTE - HORISTA (ENCARGOS COMPLEMENTARES - COLETADO CAIXA) | D94: Encargos Complementares | E94: H | F94: 5393.0463 | G94: 0.58 | H94: =TRUNC(G94*(1-(SINTÉTICA!$I$226)),2) -> 0.58 | I94: =F94*H94/(SUM($K:$K)) -> 0.0018344388 | K94: =F94*H94 -> 3127.9668
A95: 00004491 | B95: SINAPI | C95: PONTALETE *7,5 X 7,5* CM EM PINUS, MISTA OU EQUIVALENTE DA REGIAO - BRUTA | D95: Material | E95: M | F95: 377.50744 | G95: 7.6 | H95: =TRUNC(G95*(1-(SINTÉTICA!$I$226)),2) -> 7.6 | I95: =F95*H95/(SUM($K:$K)) -> 0.0016825973 | K95: =F95*H95 -> 2869.0565
A96: 00011190 | B96: SINAPI | C96: JANELA BASCULANTE, ACO, COM BATENTE/REQUADRO, 60 X 60 CM (SEM VIDROS) | D96: Material | E96: UN | F96: 16.475762 | G96: 171.7 | H96: =TRUNC(G96*(1-(SINTÉTICA!$I$226)),2) -> 171.7 | I96: =F96*H96/(SUM($K:$K)) -> 0.0016590402 | K96: =F96*H96 -> 2828.8884
A97: 00042407 | B97: SINAPI | C97: TRELICA NERVURADA (ESPACADOR), ALTURA = 120,0 MM, DIAMETRO DOS BANZOS INFERIORES E SUPERIOR = 6,0 MM, DIAMETRO DA DIAGONAL = 4,2 MM | D97: Material | E97: M | F97: 524.13169 | G97: 5.35 | H97: =TRUNC(G97*(1-(SINTÉTICA!$I$226)),2) -> 5.35 | I97: =F97*H97/(SUM($K:$K)) -> 0.0016445054 | K97: =F97*H97 -> 2804.1046
A98: UPAINS252 | B98: Próprio | C98: CONTAINER PARA ENTULHO INCLUINDO TAXA DE DEPOSIÇÃO FINAL | D98: Material | E98: UN | F98: 8 | G98: 350 | H98: =TRUNC(G98*(1-(SINTÉTICA!$I$226)),2) -> 350 | I98: =F98*H98/(SUM($K:$K)) -> 0.0016420982 | K98: =F98*H98 -> 2800
A99: 00040863 | B99: SINAPI | C99: EXAMES - MENSALISTA (COLETADO CAIXA - ENCARGOS COMPLEMENTARES) | D99: Encargos Complementares | E99: MES | F99: 12.5 | G99: 222.54 | H99: =TRUNC(G99*(1-(SINTÉTICA!$I$226)),2) -> 222.54 | I99: =F99*H99/(SUM($K:$K)) -> 0.0016313952 | K99: =F99*H99 -> 2781.75
A100: 00043466 | B100: SINAPI | C100: FERRAMENTAS - FAMILIA PINTOR - HORISTA (ENCARGOS COMPLEMENTARES - COLETADO CAIXA) | D100: Encargos Complementares | E100: H | F100: 1385.3702 | G100: 1.99 | H100: =TRUNC(G100*(1-(SINTÉTICA!$I$226)),2) -> 1.99 | I100: =F100*H100/(SUM($K:$K)) -> 0.0016168137 | K100: =F100*H100 -> 2756.8866
A101: 00002696 | B101: SINAPI | C101: ENCANADOR OU BOMBEIRO HIDRAULICO (HORISTA) | D101: Mão de Obra | E101: H | F101: 115.75341 | G101: 23.15 | H101: =TRUNC(G101*(1-(SINTÉTICA!$I$226)),2) -> 23.15 | I101: =F101*H101/(SUM($K:$K)) -> 0.0015715416 | K101: =F101*H101 -> 2679.6915
A102: 00004425 | B102: SINAPI | C102: VIGA NAO APARELHADA *6 X 12* CM, EM MACARANDUBA/MASSARANDUBA, ANGELIM OU EQUIVALENTE DA REGIAO - BRUTA | D102: Material | E102: M | F102: 90.619957 | G102: 28.89 | H102: =TRUNC(G102*(1-(SINTÉTICA!$I$226)),2) -> 28.89 | I102: =F102*H102/(SUM($K:$K)) -> 0.001535368 | K102: =F102*H102 -> 2618.0106
... A127: 00000246 | B127: SINAPI | C127: AUXILIAR DE ENCANADOR OU BOMBEIRO HIDRAULICO (HORISTA) | D127: Mão de Obra | E127: H | F127: 109.71122 | G127: 16.57 | H127: =TRUNC(G127*(1-(SINTÉTICA!$I$226)),2) -> 16.57 | I127: =F127*H127/(SUM($K:$K)) -> 0.001066141 | K127: =F127*H127 -> 1817.915
A128: 00013348 | B128: SINAPI | C128: ARRUELA EM ACO GALVANIZADO, DIAMETRO EXTERNO = 35MM, ESPESSURA = 3MM, DIAMETRO DO FURO= 18MM | D128: Material | E128: UN | F128: 1111.0478 | G128: 1.63 | H128: =TRUNC(G128*(1-(SINTÉTICA!$I$226)),2) -> 1.63 | I128: =F128*H128/(SUM($K:$K)) -> 0.0010620903
A129: 000232 | B129: SBC | C129: ENERGIA ELETRICA ATE 2000 KWH | D129: Material | E129: KWH | F129: 1675.017 | G129: 0.96 | H129: =TRUNC(G129*(1-(SINTÉTICA!$I$226)),2) -> 0.96 | I129: =F129*H129/(SUM($K:$K)) -> 0.0009430431
A130: 3930 | B130: AGETOP CIVIL | C130: CABO FLEXÍVEL EPR/XLPE (90°C), 0,6/1 KV, 16 MM2 | D130: Material | E130: m | F130: 112.812 | G130: 14.02 | H130: =TRUNC(G130*(1-(SINTÉTICA!$I$226)),2) -> 14.02 | I130: =F130*H130/(SUM($K:$K)) -> 0.0009275651
A131: 00004433 | B131: SINAPI | C131: CAIBRO NAO APARELHADO *6 X 6* CM, EM MACARANDUBA/MASSARANDUBA, ANGELIM OU EQUIVALENTE DA REGIAO - BRUTA | D131: Material | E131: M | F131: 58.420837 | G131: 26.71 | H131: =TRUNC(G131*(1-(SINTÉTICA!$I$226)),2) -> 26.71 | I131: =F131*H131/(SUM($K:$K)) -> 0.00091512991
A132: 00006194 | B132: SINAPI | C132: TABUA *2,5 X 15 CM EM PINUS, MISTA OU EQUIVALENTE DA REGIAO - BRUTA | D132: Material | E132: M | F132: 286.75025 | G132: 5.42 | H132: =TRUNC(G132*(1-(SINTÉTICA!$I$226)),2) -> 5.42 | I132: =F132*H132/(SUM($K:$K)) -> 0.00091147377
A133: 00034794 | B133: SINAPI | C133: MECANICO DE REFRIGERACAO (HORISTA) | D133: Mão de Obra | E133: H | F133: 60.552221 | G133: 24.74 | H133: =TRUNC(G133*(1-(SINTÉTICA!$I$226)),2) -> 24.74 | I133: =F133*H133/(SUM($K:$K)) -> 0.00087855886
A134: 7229 | B134: ORSE | C134: Tubo de borracha elastomérica Armaflex M-60 ø2" | D134: Material | E134: m | F134: 39.3294 | G134: 37.99 | H134: =TRUNC(G134*(1-(SINTÉTICA!$I$226)),2) -> 37.99 | I134: =F134*H134/(SUM($K:$K)) -> 0.00087624934
...

Sheet BDI
A5: =INSTRUÇÕES!A6 -> OBRA: REFORMA - GAMA CÂMARA MEDICINA NUCLEAR HBDF - NÃO DESONERADO - R00
A6: TAXAS: LEIS SOCIAIS E BDI
A8: Item | B8: LEIS SOCIAIS (LS) - SINAPI
A9: 1 | B9: HORISTA (taxa já inclusa nos valores unitários de mão-de-obra) | C9: LS | D9: 1.1014
A10: 2 | B10: MENSALISTA (taxa já inclusa nos valores unitários de mão-de-obra) | D10: 0.6919
A12: Item | B12: BONIFICAÇÃO DE DESPESAS INDIRETAS - BDI
A13: 1 | B13: RISCOS | C13: R | D13: 0.0127
A14: 2 | B14: SEGUROS | C14: S | D14: 0.005
A15: 3 | B15: GARANTIAS | C15: G | D15: 0.003
A16: 4 | B16: DESPESAS FINANCEIRAS | C16: DF | D16: 0.0123
A17: 5 | B17: ADMINISTRAÇÃO CENTRAL | C17: AC | D17: 0.04
A18: 6 | B18: LUCRO | C18: L | D18: 0.074
A19: 7 | B19: COFINS | C19: I | D19: 0.03
A20: 8 | B20: PIS | D20: 0.0065
A21: 9 | B21: CPRB | D21: 0
A22: 10 | B22: ISS | D22: 0.01
A23: Fórmula: | B23: BDI = { [ (1+(R+S+G+AC)).(1+DF).(1+L) ] -1 } x 100 1 - ( I ) | C23: BDI | D23: =TRUNC((((((1+(D13+D14+D15+D17))*(1+D16)*(1+D18))/(1-(SUM(D19:D22))))-1)),4) -> 0.2094
A25: Item | B25: BONIFICAÇÃO DE DESPESAS INDIRETAS - BDI (EQUIPAMENTOS)
A26: 1 | B26: RISCOS | C26: R | D26: 0.0056
A27: 2 | B27: SEGUROS | C27: S | D27: 0
A28: 3 | B28: GARANTIAS | C28: G | D28: 0.003
A29: 4 | B29: DESPESAS FINANCEIRAS | C29: DF | D29: 0.0085
A30: 5 | B30: ADMINISTRAÇÃO CENTRAL | C30: AC | D30: 0.015
A31: 6 | B31: LUCRO | C31: L | D31: 0.035
A32: 7 | B32: COFINS | C32: I | D32: 0.03
A33: 8 | B33: PIS | D33: 0.0065
A34: 9 | B34: CPRB | D34: 0
A35: 10 | B35: ISS | D35: 0
A36: Fórmula: | B36: BDI = { [ (1+(R+S+G+AC)).(1+DF).(1+L) ] -1 } x 100 1 - ( I ) | C36: BDI | D36: =TRUNC((((((1+(D26+D27+D28+D30))*(1+D29)*(1+D31))/(1-(SUM(D32:D35))))-1)),4) -> 0.1089

Sheet CRONOGRAMA
B2: =INSTRUÇÕES!A2 -> INSTITUTO DE GESTÃO ESTRATÉGICA DE SAÚDE
B3: =INSTRUÇÕES!A3 -> IGES-DF
B5: =INSTRUÇÕES!A6 -> OBRA: REFORMA - GAMA CÂMARA MEDICINA NUCLEAR HBDF - NÃO DESONERADO - R00
B6: CRONOGRAMA FISICO-FINANCEIRO
A8: ITEM | B8: DESCRIÇÃO | C8: VALOR | D8: DIAS 1 A 30 | E8: DIAS 31 A 60 | F8: DIAS 61 A 90 | G8: DIAS 91 A 120 | H8: DIAS 121 A 150 | I8: DIAS 151 A 180 | J8: DIAS 181 A 210 | K8: DIAS 211 A 240 | M8: TOTAL
A9: 01.00.000 | B9: SERVIÇOS TÉCNICOS PROFISSIONAIS | C9: =SINTÉTICA!I15 -> 952.56 | D9: =$C$9*D10 -> 952.56 | E9: =$C$9*E10 -> 0 | F9: =$C$9*F10 -> 0 | G9: =$C$9*G10 -> 0 | H9: =$C$9*H10 -> 0 | M9: =SUM(D9:L9) -> 952.56
D10: 1 | M10: =SUM(D10:L10) -> 1
A11: 02.00.000 | B11: SERVIÇOS PRELIMINARES | C11: =SINTÉTICA!I36+SINTÉTICA!I54 -> 144512.63 | D11: =$C$11*D12 -> 28902.526 | E11: =$C$11*E12 -> 28902.526 | F11: =$C$11*F12 -> 28902.526 | G11: =$C$11*G12 -> 28902.526 | H11: =$C$11*H12 -> 28902.526 | M11: =SUM(D11:L11) -> 144512.63
D12: 0.2 | E12: 0.2 | F12: 0.2 | G12: 0.2 | H12: 0.2 | M12: =SUM(D12:L12) -> 1
A13: 03.00.000 | B13: FUNDAÇÕES E ESTRUTURA | C13: =SINTÉTICA!I67 -> 437671.21 | D13: =$C$13*D14 -> 218835.6 | E13: =$C$13*E14 -> 218835.6 | F13: =$C$13*F14 -> 0 | G13: =$C$13*G14 -> 0 | H13: =$C$13*H14 -> 0 | M13: =SUM(D13:L13) -> 437671.21
D14: 0.5 | E14: 0.5 | M14: =SUM(D14:L14) -> 1
A15: 04.00.000 | B15: ARQUITETURA E ELEMENTOS DE URBANISMO | C15: =SINTÉTICA!I72 -> 665277.27 | D15: =$C$15*D16 -> 0 | E15: =$C$15*E16 -> 332638.64 | F15: =$C$15*F16 -> 166319.32 | G15: =$C$15*G16 -> 166319.32 | H15: =$C$15*H16 -> 0 | M15: =SUM(D15:L15) -> 665277.27
D16: 0 | E16: 0.5 | F16: 0.25 | G16: 0.25 | H16: 0 | M16: =SUM(D16:L16) -> 1
A17: 05.00.000 | B17: INSTALAÇÕES HIDRÁULICAS E SANITÁRIAS | C17: =SINTÉTICA!I114 -> 12300.69 | D17: =$C$17*D18 -> 0 | E17: =$C$17*E18 -> 0 | F17: =$C$17*F18 -> 3075.1725 | G17: =$C$17*G18 -> 3075.1725 | H17: =$C$17*H18 -> 6150.345 | M17: =SUM(D17:L17) -> 12300.69
E18: 0 | F18: 0.25 | G18: 0.25 | H18: 0.5 | M18: =SUM(D18:L18) -> 1
A19: 06.00.000 | B19: INSTALAÇÕES ELÉTRICAS E ELETRÔNICAS | C19: =SINTÉTICA!I133 -> 76946.62 | D19: =$C$19*D20 -> 0 | E19: =$C$19*E20 -> 0 | F19: =$C$19*F20 -> 19236.655 | G19: =$C$19*G20 -> 19236.655 | H19: =$C$19*H20 -> 38473.31 | M19: =SUM(D19:L19) -> 76946.62
D20: 0 | E20: 0 | F20: 0.25 | G20: 0.25 | H20: 0.5 | M20: =SUM(D20:L20) -> 1
A21: 07.00.000 | B21: INSTALAÇÕES MECÂNICAS E DE UTILIDADES | C21: =SINTÉTICA!I180 -> 584626.18 | D21: =$C$21*D22 -> 0 | E21: =$C$21*E22 -> 0 | F21: =$C$21*F22 -> 146156.55 | G21: =$C$21*G22 -> 146156.55 | H21: =$C$21*H22 -> 292313.09 | M21: =SUM(D21:L21) -> 584626.18
F22: 0.25 | G22: 0.25 | H22: 0.5 | M22: =SUM(D22:L22) -> 1
A23: 08.00.000 | B23: INSTALAÇÕES DE PREVENÇÃO E COMBATE À INCÊNDIO
A25: 09.00.000 | B25: SERVIÇOS COMPLEMENTARES | C25: =SINTÉTICA!I19 -> 9614.35 | D25: =$C$25*D26 -> 0 | E25: =$C$25*E26 -> 0 | F25: =$C$25*F26 -> 2403.5875 | G25: =$C$25*G26 -> 2403.5875 | H25: =$C$25*H26 -> 4807.175 | M25: =SUM(D25:L25) -> 9614.35
